BEGIN:VCALENDAR
VERSION:2.0
PRODID:-//SNS JU - ECPv6.15.20//NONSGML v1.0//EN
CALSCALE:GREGORIAN
METHOD:PUBLISH
X-ORIGINAL-URL:https://smart-networks.europa.eu
X-WR-CALDESC:Events for SNS JU
REFRESH-INTERVAL;VALUE=DURATION:PT1H
X-Robots-Tag:noindex
X-PUBLISHED-TTL:PT1H
BEGIN:VTIMEZONE
TZID:Europe/Berlin
BEGIN:DAYLIGHT
TZOFFSETFROM:+0100
TZOFFSETTO:+0200
TZNAME:CEST
DTSTART:20210328T010000
END:DAYLIGHT
BEGIN:STANDARD
TZOFFSETFROM:+0200
TZOFFSETTO:+0100
TZNAME:CET
DTSTART:20211031T010000
END:STANDARD
BEGIN:DAYLIGHT
TZOFFSETFROM:+0100
TZOFFSETTO:+0200
TZNAME:CEST
DTSTART:20220327T010000
END:DAYLIGHT
BEGIN:STANDARD
TZOFFSETFROM:+0200
TZOFFSETTO:+0100
TZNAME:CET
DTSTART:20221030T010000
END:STANDARD
BEGIN:DAYLIGHT
TZOFFSETFROM:+0100
TZOFFSETTO:+0200
TZNAME:CEST
DTSTART:20230326T010000
END:DAYLIGHT
BEGIN:STANDARD
TZOFFSETFROM:+0200
TZOFFSETTO:+0100
TZNAME:CET
DTSTART:20231029T010000
END:STANDARD
END:VTIMEZONE
BEGIN:VEVENT
DTSTART;TZID=Europe/Berlin:20220125T110000
DTEND;TZID=Europe/Berlin:20220125T123000
DTSTAMP:20260423T234255
CREATED:20220118T121503Z
LAST-MODIFIED:20221028T133415Z
UID:17166-1643108400-1643113800@smart-networks.europa.eu
SUMMARY:7th "Walk and Talk" Webinar - Women in ICT Standards
DESCRIPTION:The 7th Talk & Walk Webinar on Women in ICT Standards organised by the H2020 StandICT.eu 2023 project will take place on 25 January 2022 from 11:00 to 12:30 CET. \nThe 7th StandICT.eu 2023 “Walk & Talk” webinar will introduce the community to the “Women in ICT Standards”. \nThe link between technology and women’s is growing stronger every year and clearly reflected in the Sustainable Development Goals 5 on gender equality and the empowerment of women\, which includes a specific target on how to leverage technology and ICT assets to fully achieve women’s empowerment. \nDiversity\, equity and inclusion are foundational elements for the development of standards with a view to shape a world where everyone is adequately represented regardless of race or gender.\nNowadays\, the role of women is widely recognized within the ICT Standardisation landscape for their valued participation and contributions on Standards & Certification committees and activities (across a broad range of ICT areas). \nIn this Webinar esteemed representatives from various European and International Standards Developing Organisations will come together to discuss their effort\, achievements and current activities in the respective ICT technological domain\, how the role of women in ICT gained releveance over the past years and how to encourage more and more women to be active in the field. \nThe video recording and presentations will be made available after the conclusion of the event. \nAgenda \n11:00 – 11:10 Silvana Muscella\, Trust-IT Services CEO & StandICT.eu 2023 Coordinator\n11:10 – 11:20 Fiona Delaney\, CEO at Origin Chain Networks & EUOS Blockchain TWG Chair\n11:20 – 11:30 Sabine Janning\, Senior Standards and Compliance Program Manager at IBM\n11:40 – 11:50 Maria Ines Robles\, IETF Roll Co-Chair & StandICT.eu 2023 Fellow\n11:50 – 12:00 Jacqui Taylor\, CEO at FlyingBinary & Expert lead for the British Standards Institute (BSI)\n12:00 – 12:10 Marianna Kramarikova\, IEC Technical Officer & Women in Standards Board Member\n12:10 – 12:20 Suno Wood\,  Chair of ETSI TC eHEALTH\n12:20 – 12:30 Q/A Session and conclusions \nRegistration: https://www.standict.eu/events/7th-walk-talk-webinar-women-ict-standards
URL:https://smart-networks.europa.eu/event/7th-walk-and-talk-webinar-women-in-ict-standards/
CATEGORIES:Other Event
ATTACH;FMTTYPE=image/png:https://smart-networks.europa.eu/wp-content/uploads/2022/01/hp-7-peole-1024x440-1.png
END:VEVENT
END:VCALENDAR