BEGIN:VCALENDAR
VERSION:2.0
PRODID:-//SNS JU - ECPv6.15.20//NONSGML v1.0//EN
CALSCALE:GREGORIAN
METHOD:PUBLISH
X-WR-CALNAME:SNS JU
X-ORIGINAL-URL:https://smart-networks.europa.eu
X-WR-CALDESC:Events for SNS JU
REFRESH-INTERVAL;VALUE=DURATION:PT1H
X-Robots-Tag:noindex
X-PUBLISHED-TTL:PT1H
BEGIN:VTIMEZONE
TZID:Europe/Berlin
BEGIN:DAYLIGHT
TZOFFSETFROM:+0100
TZOFFSETTO:+0200
TZNAME:CEST
DTSTART:20210328T010000
END:DAYLIGHT
BEGIN:STANDARD
TZOFFSETFROM:+0200
TZOFFSETTO:+0100
TZNAME:CET
DTSTART:20211031T010000
END:STANDARD
BEGIN:DAYLIGHT
TZOFFSETFROM:+0100
TZOFFSETTO:+0200
TZNAME:CEST
DTSTART:20220327T010000
END:DAYLIGHT
BEGIN:STANDARD
TZOFFSETFROM:+0200
TZOFFSETTO:+0100
TZNAME:CET
DTSTART:20221030T010000
END:STANDARD
BEGIN:DAYLIGHT
TZOFFSETFROM:+0100
TZOFFSETTO:+0200
TZNAME:CEST
DTSTART:20230326T010000
END:DAYLIGHT
BEGIN:STANDARD
TZOFFSETFROM:+0200
TZOFFSETTO:+0100
TZNAME:CET
DTSTART:20231029T010000
END:STANDARD
END:VTIMEZONE
BEGIN:VEVENT
DTSTART;VALUE=DATE:20221024
DTEND;VALUE=DATE:20221026
DTSTAMP:20260423T043654
CREATED:20221024T071256Z
LAST-MODIFIED:20221109T151703Z
UID:18278-1666569600-1666742399@smart-networks.europa.eu
SUMMARY:Beyond 5G International Conference 2022
DESCRIPTION:Beyond 5G International Conference\, 2022 is an event held this year in Tokyo\, Japan\, which is co-hosted by the Ministry of Internal Affairs and Communications (MIC) and the Beyond 5G Promotion Consortium of Japan. The conference provides an opportunity for corporate executives and government officials working in the ICT field in Japan and other countries to examine international collaboration among industry\, academia\, and government for promoting Beyond 5G through sharing initiatives made in Japan and overseas and discussing the topic. \nThe main themes of the conference are:\n1. Initiatives made in Japan to promote Beyond 5G\n2. Global trend Beyond 5G\n3. International cooperation for promoting Beyond 5G \nProfessor Matti Latva-aho\, Director of 6G Flagship\, will speak in a panel discussion on International Collaboration for promoting Beyond 5G. \nMore info: https://www.beyond5g-conference2022.jp/en/ \n\nConference Overview\n\n\n\n\nDates\nOctober 24 (Mon.) — October 25 (Tue.)\, 2022\n\n\nVenue\nHotel New Otani Tokyo (banquet room TSURU)\n(4-1 Kioi-cho\, Chiyoda-ku\, Tokyo)\n\n\nHosts\nMinistry of Internal Affairs & Communications (MIC)\nand Beyond 5G Promotion Consortium (co-hosted)\n\n\nConference format\nHybrid format (onsite participation or live streaming)\n\n\nHow to join\nPlease fill out the Registration Form on the “APPLICATION” page. \n\n* Onsite participation is on first-come\, first-served basis.\n* Online participation through live streaming will be informed if applicants for onsite participation exceed the capacity.\n* Live streaming will not be available from 10:20 a.m. to 2:00 p.m. on October 25 (Tue.).\n* Registration will close at 4:00 p.m. on Friday\, October 21\n\n\n\n\n\n\n\n\nSecretariat Information\n\n\n\n\nName\nBeyond 5G International Conference 2022 Secretariat (c/o Alfanet Inc.)\n\n\nAddress\n5F JS Tsukiji Building\, 3-7-10 Tsukiji\, Chuo-ku\, Tokyo 104-0045\n\n\nContact\nTel:+81-80-5752-5767\nE-mail: beyond5g-conference2022@alfanet.co.jp\n\n\nNote\nTelephone calls are accepted during 10:00 a.m.-6:00 p.m.\n(except on Saturdays\, Sundays\, and holidays)
URL:https://smart-networks.europa.eu/event/beyond-5g-international-conference-2022/
CATEGORIES:5G PPP Event,6G IA Event,SNS JU Event
ATTACH;FMTTYPE=image/jpeg:https://smart-networks.europa.eu/wp-content/uploads/2022/11/beyond-5g-international-conference-1536x954-1-e1668007016320.jpeg
END:VEVENT
END:VCALENDAR