BEGIN:VCALENDAR
VERSION:2.0
PRODID:-//SNS JU - ECPv6.15.20//NONSGML v1.0//EN
CALSCALE:GREGORIAN
METHOD:PUBLISH
X-ORIGINAL-URL:https://smart-networks.europa.eu
X-WR-CALDESC:Events for SNS JU
REFRESH-INTERVAL;VALUE=DURATION:PT1H
X-Robots-Tag:noindex
X-PUBLISHED-TTL:PT1H
BEGIN:VTIMEZONE
TZID:Europe/Berlin
BEGIN:DAYLIGHT
TZOFFSETFROM:+0100
TZOFFSETTO:+0200
TZNAME:CEST
DTSTART:20210328T010000
END:DAYLIGHT
BEGIN:STANDARD
TZOFFSETFROM:+0200
TZOFFSETTO:+0100
TZNAME:CET
DTSTART:20211031T010000
END:STANDARD
BEGIN:DAYLIGHT
TZOFFSETFROM:+0100
TZOFFSETTO:+0200
TZNAME:CEST
DTSTART:20220327T010000
END:DAYLIGHT
BEGIN:STANDARD
TZOFFSETFROM:+0200
TZOFFSETTO:+0100
TZNAME:CET
DTSTART:20221030T010000
END:STANDARD
BEGIN:DAYLIGHT
TZOFFSETFROM:+0100
TZOFFSETTO:+0200
TZNAME:CEST
DTSTART:20230326T010000
END:DAYLIGHT
BEGIN:STANDARD
TZOFFSETFROM:+0200
TZOFFSETTO:+0100
TZNAME:CET
DTSTART:20231029T010000
END:STANDARD
END:VTIMEZONE
BEGIN:VEVENT
DTSTART;TZID=Europe/Berlin:20221130T084500
DTEND;TZID=Europe/Berlin:20221201T193000
DTSTAMP:20260423T011530
CREATED:20221109T160457Z
LAST-MODIFIED:20221110T093843Z
UID:18292-1669797900-1669923000@smart-networks.europa.eu
SUMMARY:5G Italy: 5th edition Towards the Telecoms of the future
DESCRIPTION:5G Italy reaches its 5th edition. The international conference promoted and organised by the Italian National Inter-University Consortium for Telecommunications – CNIT (Consorzio Nazionale Interuniversitario per le Telecomunicazioni) is once again the most significant event in Italy about 5G and its several application areas. \nThe fifth edition of 5G Italy – Towards the Telecoms of the Future –  will cover the research\, development\, and implementation activities currently under way in Italy and the rest of the World and will also feature the projects linked to the National Recovery and Resilience Plan – NRRP (Piano Nazionale di Ripresa e Resilienza\, PNRR)\, allocating major investments for the digitalisation of the Country. \n\n\n\n\n\n\n\n\n\n\n\nDOWNLOAD PRESENTATION\n\n\n\n\n\n\n\n\n\n\n\nIn this transition process\, 5G will act as one of the connecting points for electronic communications and will be a key factor to boost national economy\, as well as drive economic growth. In this complicated and challenging historical period\, 5G will play a more and more relevant role for its industrial and social applications\, but also in fields such as services\, businesses\, and Public Administrations. \n5G Italy will also be a great networking opportunity: a strategic meeting-point for businesses\, public entities\, the academic world and decision-makers. \nParticipation\n5G Italy will count on the valuable participation of distinguished institutional representatives (i.e.\, from Government\, Parliament\, and Public Entities)\, as well as C-suite from top-rated Italian and foreign companies.\nSpeakers will be cherry-picked from a shortlist of top managers active in the areas to be discussed at the event.\nCNIT will draft and deliver individual invitations directly to the speakers/institutional representatives\, checking on their availability\, with a commitment to the success of the event. \nOnline and Onsite\nThe Conference will be a hybrid event: set up in a prestigious Galleria del Cardinale Colonna\, a TV studio will accommodate speakers and guests\, for them to participate either on site or online. \n 
URL:https://smart-networks.europa.eu/event/5g-italy-5th-edition-towards-the-telecoms-of-the-future/
CATEGORIES:Other Event
ATTACH;FMTTYPE=image/jpeg:https://smart-networks.europa.eu/wp-content/uploads/2022/11/5gitaly22-locandina-en-e1668009923190.jpg
END:VEVENT
END:VCALENDAR