BEGIN:VCALENDAR
VERSION:2.0
PRODID:-//SNS JU - ECPv6.15.20//NONSGML v1.0//EN
CALSCALE:GREGORIAN
METHOD:PUBLISH
X-ORIGINAL-URL:https://smart-networks.europa.eu
X-WR-CALDESC:Events for SNS JU
REFRESH-INTERVAL;VALUE=DURATION:PT1H
X-Robots-Tag:noindex
X-PUBLISHED-TTL:PT1H
BEGIN:VTIMEZONE
TZID:Europe/Berlin
BEGIN:DAYLIGHT
TZOFFSETFROM:+0100
TZOFFSETTO:+0200
TZNAME:CEST
DTSTART:20210328T010000
END:DAYLIGHT
BEGIN:STANDARD
TZOFFSETFROM:+0200
TZOFFSETTO:+0100
TZNAME:CET
DTSTART:20211031T010000
END:STANDARD
BEGIN:DAYLIGHT
TZOFFSETFROM:+0100
TZOFFSETTO:+0200
TZNAME:CEST
DTSTART:20220327T010000
END:DAYLIGHT
BEGIN:STANDARD
TZOFFSETFROM:+0200
TZOFFSETTO:+0100
TZNAME:CET
DTSTART:20221030T010000
END:STANDARD
BEGIN:DAYLIGHT
TZOFFSETFROM:+0100
TZOFFSETTO:+0200
TZNAME:CEST
DTSTART:20230326T010000
END:DAYLIGHT
BEGIN:STANDARD
TZOFFSETFROM:+0200
TZOFFSETTO:+0100
TZNAME:CET
DTSTART:20231029T010000
END:STANDARD
END:VTIMEZONE
BEGIN:VEVENT
DTSTART;TZID=Europe/Berlin:20221204T090000
DTEND;TZID=Europe/Berlin:20221208T170000
DTSTAMP:20260423T012207
CREATED:20221017T142715Z
LAST-MODIFIED:20221110T092539Z
UID:17882-1670144400-1670518800@smart-networks.europa.eu
SUMMARY:IEEE Global Communications Conference: Accelerating the Digital Transformation through Smart Communications
DESCRIPTION:The 2022 IEEE Global Communications Conference (GLOBECOM) will be held in Rio de Janeiro\, Brazil\, from 4 to 8 December 2022. Themed “Accelerating the Digital Transformation through Smart Communications\,” this flagship hybrid (both in-person and online) conference of the IEEE Communications Society will feature a comprehensive high-quality technical program including 13 symposia and a variety of tutorials and workshops. \nIEEE GLOBECOM 2022 will also include an attractive Industry program\, with keynotes and panels from prominent research\, industry and government leaders\, business and industry panels\, and vendor exhibits. \nIEEE GLOBECOM 2022 – Rio de Janeiro\n\n\n \n\n\n\nFULL Program is now available\n\n\nFor more details please click HERE. \n\n\n\n\nTransfer reservation is now available\n\n\nFor more details please click HERE. \n\n\n\n\nIEEE GLOBECOM 2022 – Hybrid Event\n\n\nGlobecom 2022 will be held as a hybrid event. Presenters may choose to present their papers in person in Rio de Janeiro and/or virtually. Presenters must provide their choice of presentation format after their papers/presentations have been accepted.
URL:https://smart-networks.europa.eu/event/ieee-global-communications-conference-accelerating-the-digital-transformation-through-smart-communications/
CATEGORIES:Other Event
ATTACH;FMTTYPE=image/png:https://smart-networks.europa.eu/wp-content/uploads/2022/10/2022-ieee-globecom.png
END:VEVENT
END:VCALENDAR