BEGIN:VCALENDAR
VERSION:2.0
PRODID:-//SNS JU - ECPv6.15.20//NONSGML v1.0//EN
CALSCALE:GREGORIAN
METHOD:PUBLISH
X-WR-CALNAME:SNS JU
X-ORIGINAL-URL:https://smart-networks.europa.eu
X-WR-CALDESC:Events for SNS JU
REFRESH-INTERVAL;VALUE=DURATION:PT1H
X-Robots-Tag:noindex
X-PUBLISHED-TTL:PT1H
BEGIN:VTIMEZONE
TZID:Europe/Berlin
BEGIN:DAYLIGHT
TZOFFSETFROM:+0100
TZOFFSETTO:+0200
TZNAME:CEST
DTSTART:20210328T010000
END:DAYLIGHT
BEGIN:STANDARD
TZOFFSETFROM:+0200
TZOFFSETTO:+0100
TZNAME:CET
DTSTART:20211031T010000
END:STANDARD
BEGIN:DAYLIGHT
TZOFFSETFROM:+0100
TZOFFSETTO:+0200
TZNAME:CEST
DTSTART:20220327T010000
END:DAYLIGHT
BEGIN:STANDARD
TZOFFSETFROM:+0200
TZOFFSETTO:+0100
TZNAME:CET
DTSTART:20221030T010000
END:STANDARD
BEGIN:DAYLIGHT
TZOFFSETFROM:+0100
TZOFFSETTO:+0200
TZNAME:CEST
DTSTART:20230326T010000
END:DAYLIGHT
BEGIN:STANDARD
TZOFFSETFROM:+0200
TZOFFSETTO:+0100
TZNAME:CET
DTSTART:20231029T010000
END:STANDARD
END:VTIMEZONE
BEGIN:VEVENT
DTSTART;TZID=Europe/Berlin:20221215T100000
DTEND;TZID=Europe/Berlin:20221215T111500
DTSTAMP:20260423T012152
CREATED:20221109T090342Z
LAST-MODIFIED:20221110T092741Z
UID:18219-1671098400-1671102900@smart-networks.europa.eu
SUMMARY:R&I Goals and Opportunities for Micro-Electronics in 6G Networks
DESCRIPTION:The 6G-IA\,  together with AENEAS\, is organising an open webinar on : \nR&I Goals and Opportunities for Micro-Electronics in 6G Networks\nOn Thursday 15 December 2022  at 10:00 CET\n(to download an ics file for your Calendar please Click Here) \nThe purpose of the webinar is to summarise the European policies and goals for Micro-Electronics in 6G Networks and to discuss the related 2023 calls for projects in this area in both the KDT JU and the SNS JU programmes. \nBackground\nThe current race towards the definition of 6G systems has already started and is the subject of vibrant competition from Europe’s main competitors\, notably the US\, China\, Japan and South Korea. Microelectronics is becoming a key issue for competitive solutions provided by European vendors and suppliers and microelectronics companies worldwide are also expected to play an important role in the 6G standardisation activities – which should start around 2025. It is hence important to have a critical mass of microelectronic actors well prepared to contribute to the standardisation process\, especially for the lower radio layers where the bulk of essential patents for standards implementation are usually located. \nThe European Chips Act\, adopted by the Commission in early 2022 aims to enhance Europe’s competitiveness and resilience in semiconductor technologies and applications and help achieve both the digital and green transition. One of its objectives is to help Europe reach leadership in chips for digital connectivity infrastructures. Europe has a leading position in the global connectivity infrastructure market\, while at the same time has strong dependencies on chipset vendors from outside the European Union. \nIn this context\, and with the clear aim of reinforcing European strength in microelectronics and connectivity\, the KDT and SNS JUs are both launching focus topics as complementary activities in their respective Work Programmes. \nProgramme\n\n10:00-10:10  Opening – Welcome\nColin Willcock GB Chairman 6G-IA & SNS JU GB Chairman and Caroline Bedran Director General AENEAS\n10:10-10:30  European policy on micro-electronics for connectivity\nBernard Barani Deputy Head of Unit E.1 and Arian Zwegers Head of sector DG CNECT Unit A.3\n10:30-10:45  6G-related topics in the context of KDT\nBerta Ferrer Llosa KDT JU Programme Officer and Patrick Cogez Technical Director AENEAS\n10:45-11:00  Micro-electronics related topics for 6G networks and systems in the context of the SNS JU\nPavlos Fournogerakis SNS JU Programme Officer and Alex Kaloxylos Executive Director 6G-IA\n11:00-11:15  Q&A\n\n  \nRegistration on https://6g-ia.eu/event/ri-goals-and-opportunities-for-micro-electronics-in-6g-networks/
URL:https://smart-networks.europa.eu/event/ri-goals-and-opportunities-for-micro-electronics-in-6g-networks/
CATEGORIES:6G IA Event
ATTACH;FMTTYPE=image/png:https://smart-networks.europa.eu/wp-content/uploads/2022/10/website-logo-header-withoutclaim.png
END:VEVENT
END:VCALENDAR