BEGIN:VCALENDAR
VERSION:2.0
PRODID:-//SNS JU - ECPv6.15.20//NONSGML v1.0//EN
CALSCALE:GREGORIAN
METHOD:PUBLISH
X-WR-CALNAME:SNS JU
X-ORIGINAL-URL:https://smart-networks.europa.eu
X-WR-CALDESC:Events for SNS JU
REFRESH-INTERVAL;VALUE=DURATION:PT1H
X-Robots-Tag:noindex
X-PUBLISHED-TTL:PT1H
BEGIN:VTIMEZONE
TZID:Europe/Berlin
BEGIN:DAYLIGHT
TZOFFSETFROM:+0100
TZOFFSETTO:+0200
TZNAME:CEST
DTSTART:20220327T010000
END:DAYLIGHT
BEGIN:STANDARD
TZOFFSETFROM:+0200
TZOFFSETTO:+0100
TZNAME:CET
DTSTART:20221030T010000
END:STANDARD
BEGIN:DAYLIGHT
TZOFFSETFROM:+0100
TZOFFSETTO:+0200
TZNAME:CEST
DTSTART:20230326T010000
END:DAYLIGHT
BEGIN:STANDARD
TZOFFSETFROM:+0200
TZOFFSETTO:+0100
TZNAME:CET
DTSTART:20231029T010000
END:STANDARD
BEGIN:DAYLIGHT
TZOFFSETFROM:+0100
TZOFFSETTO:+0200
TZNAME:CEST
DTSTART:20240331T010000
END:DAYLIGHT
BEGIN:STANDARD
TZOFFSETFROM:+0200
TZOFFSETTO:+0100
TZNAME:CET
DTSTART:20241027T010000
END:STANDARD
END:VTIMEZONE
BEGIN:VEVENT
DTSTART;TZID=Europe/Berlin:20230202T093000
DTEND;TZID=Europe/Berlin:20230202T163000
DTSTAMP:20260422T204702
CREATED:20230118T132515Z
LAST-MODIFIED:20230118T142903Z
UID:19162-1675330200-1675355400@smart-networks.europa.eu
SUMMARY:Horizon Europe Coordinators' Day: Grant Agreement Preparation
DESCRIPTION:Places still available: Coordinators’ Day on Horizon Europe Grant Agreement Preparation\nThe H2020 Coordinators’ Day GAP is an invitation-only event\, for coordinators of proposals invited to prepare a grant agreement. Other participants may be accepted subject to the availability of seats. \n[vc_row][vc_column width=”1/3″][vc_btn title=”Gasperi Room\, Charlemagne Building – Brussels” color=”chino” align=”center” i_icon_fontawesome=”fas fa-map-marker-alt” add_icon=”true”][/vc_column][vc_column width=”1/3″][vc_btn title=”02 February 2023″ color=”chino” align=”center” i_icon_fontawesome=”fas fa-calendar-alt” add_icon=”true”][/vc_column][vc_column width=”1/3″][vc_btn title=”09:30 am to 16:30 pm ” color=”chino” align=”center” i_icon_fontawesome=”fas fa-clock” add_icon=”true”][/vc_column][/vc_row][vc_row][vc_column][mk_button size=”x-large” icon=”mk-li-ticket” url=”https://ecas.ec.europa.eu/cas/login” target=”_blank” align=”center”]Please click here for registration in EU Learn. [/mk_button][/vc_column][/vc_row]\nThis webinar will be hybrid: people can participate both remotely or attending live in Brussels (in this case\, please also register here\, so we can order coffee and sandwiches for you). \n  \nEvent website: https://ec.europa.eu/research/participants/docs/h2020-funding-guide/other/event230202.htm \n  \nAgenda:  \n09:30 – Welcome\, agenda and logistics \n09:35 – Message from Matthias Will\, Director of the Common Implementation Centre \n09:50 – Funding & Tenders Portal – Identity and access management \n10:15 – Overview of the grant preparation process \n10:45 – Coffee break \n11:30 – Legal and financial issues \n12:15 – Your organisation: legal status and financial capacity \n12:45 – Sandwich lunch \n14:00 – Fraud prevention\, detection and correction \n14:30 – Scientific/Technical description of the project – Description of Action and IT tools \n15:30 – Open access \n16:00 – Dissemination and exploitation of project results \n16:30 – End of the meeting
URL:https://smart-networks.europa.eu/event/horizon-europe-coordinators-day-grant-agreement-preparation/
CATEGORIES:Other Event
ATTACH;FMTTYPE=image/jpeg:https://smart-networks.europa.eu/wp-content/uploads/2023/01/sns-ju-design-website-5-e1674048299708.jpg
END:VEVENT
END:VCALENDAR