BEGIN:VCALENDAR
VERSION:2.0
PRODID:-//SNS JU - ECPv6.15.20//NONSGML v1.0//EN
CALSCALE:GREGORIAN
METHOD:PUBLISH
X-WR-CALNAME:SNS JU
X-ORIGINAL-URL:https://smart-networks.europa.eu
X-WR-CALDESC:Events for SNS JU
REFRESH-INTERVAL;VALUE=DURATION:PT1H
X-Robots-Tag:noindex
X-PUBLISHED-TTL:PT1H
BEGIN:VTIMEZONE
TZID:Europe/Berlin
BEGIN:DAYLIGHT
TZOFFSETFROM:+0100
TZOFFSETTO:+0200
TZNAME:CEST
DTSTART:20220327T010000
END:DAYLIGHT
BEGIN:STANDARD
TZOFFSETFROM:+0200
TZOFFSETTO:+0100
TZNAME:CET
DTSTART:20221030T010000
END:STANDARD
BEGIN:DAYLIGHT
TZOFFSETFROM:+0100
TZOFFSETTO:+0200
TZNAME:CEST
DTSTART:20230326T010000
END:DAYLIGHT
BEGIN:STANDARD
TZOFFSETFROM:+0200
TZOFFSETTO:+0100
TZNAME:CET
DTSTART:20231029T010000
END:STANDARD
BEGIN:DAYLIGHT
TZOFFSETFROM:+0100
TZOFFSETTO:+0200
TZNAME:CEST
DTSTART:20240331T010000
END:DAYLIGHT
BEGIN:STANDARD
TZOFFSETFROM:+0200
TZOFFSETTO:+0100
TZNAME:CET
DTSTART:20241027T010000
END:STANDARD
END:VTIMEZONE
BEGIN:VEVENT
DTSTART;TZID=Europe/Berlin:20230215T120000
DTEND;TZID=Europe/Berlin:20230215T150000
DTSTAMP:20260422T221016
CREATED:20230203T144448Z
LAST-MODIFIED:20230220T090642Z
UID:19270-1676462400-1676473200@smart-networks.europa.eu
SUMMARY:SNS Lunchtime Webinar 1 - Introducing the SNS projects (Part 1 of 4)
DESCRIPTION:The European Smart Networks and Services Joint Undertaking (SNS JU) is a Public-Private Partnership that aims to facilitate and develop industrial leadership in Europe in 5G and 6G networks and services. The SNS JU funds projects that shape a solid research and innovation (R&I) roadmap and deployment agenda by engaging a critical mass of European stakeholders and facilitating international cooperation on various 6G initiatives. in January 2023 The Smart Network and Services Joint Undertaking (SNS JU) launched the first phase of its 6G projects\, which are critical in establishing a solid research and innovation (R&I) foundation for Europe\, defining the next generation networks. We now with to introduce the recently launched projects in a series of 4 lunchtime webinars to give you a overview of the their activities and ambitions. The first of these webinars is now planned for Wednesday 15/02/2023 at 12.00 CET  for two hours. This first webinar will present Stream /Strand B5 & C & D projects addressing 6G Holistic System\, SNS experimental Infrastructures & SNS Large scale Trials and Pilots according to the agenda below . \nAGENDA:\n\n\n\n\n	Webinar 1 Agenda\n\n\n\n\n	TimeCall (click for PDF of Slides)Project Acronym / PresentationPresenterPresenter Affiliation & project role\n\n\n	12.00 - 12.156G-IA Welcome and \nStreams B5\, C and D description Slides (shared with following)ModeratorAlex Kaloxylos\nVideoTechnical Director\, 6G IA\n\n\n	12.15 - 12.25SNS JU organization & \nStreams B5\, C and D message Slides (shared with Previous)ECPavlos Fournogerakis\nVideoProgramme Officer\, SNS JU\n\n\n	12.25 - 12.45B-01-05Hexa-X-II SidesMikko Uusitalo\nVideoNokia Bell Labs\, Project Coordinator\n\n\n	12.45 - 13.00C-01-016G-BRICKS Slides Christos Verikoukis\nVideoISI/ATH \, Project Coordinator\n\n\n	13.00 - 13.15C-01-016G-SANDBOX SlidesPedro Merino\nVideoUniversity of Malaga\, Technical Manager\n\n\n	13.15 - 13.30C-01-016G-XR SlidesAri Pouttu\nVideoUOULU\, Project Coordinator\n\n\n	13.30 - 13.40Stream C - Q&ASlidesVideo\n\n\n	13.40 - 13.55D-01-01FIDAL SlidesChristos Tranoris\nVideop-NET\,  Technical Manager\n\n\n	13.55 - 14.10D-01-01IMAGINE-B5G SlidesDavid Gomez-Barquero\nVideoUniversitat Politecnica de Valencia\, Project Coordinator\n\n\n	14.10 - 14.25D-01-01TARGET-X SlidesJanina Knußmann M.Sc\nVideoFraunhofer Institute for Production Technology IPT\, Project Manager\n\n\n	14.25 - 14.40D-01-01TrialsNet SlidesSilvia Provvedi\nVideoEricsson Telecomunicazioni S.p.a.\, Project Coordinator of TrialsNet\n\n\n	14.40 - 14.55Steam D - Q&AVideo\n\n\n	14.55 - 15.00Conclusions/next eventsModeratorFull webinar videos on our YouTube Channel\n\n\n\n\nFollowing Events:\nSNS Lunchtime Webinar 2:  Stream A projects addressing:  Smart Communication Components\, Systems and Networks for 5G Evolution Systems:  Monday 20/02/2023 @ 12.00 \nSNS Lunchtime Webinar 3: Stream B1 & B4 projects addressing:  Architecture & Secure Services and Security:  Thursday 23/02/2023 @ 12.00 \nSNS Lunchtime Webinar 4: Stream B2 & B3 projects addressing:  Wireless Communications and Signal Processing & Communication Infrastructure and Devices; Monday 06/03/2023 @ 12.00 \nREGISTRATION for this Webinar:\n\n\n  \n\n\n\nYour Family Name (required)\n \n\n \nYour First Name (required)\n \n\n \nYour Email (required)\n \n\n \nCompany/Organisation\n \n\n \nProject/Initiative/Research program/Standards Body you are representing (if none please state "None")\n \n\n \nPlease register me for:\n \nThis WebinarAll remaining SNS intro webinars\n \n GDPR STATEMENT: The information collected here will only be used for sending the Webinar access details and for announcing the availability of the event recordings.
URL:https://smart-networks.europa.eu/event/sns-lunchtime-webinar-1-introducing-the-sns-projects-part-1-of-4/
LOCATION:Online event
CATEGORIES:5G PPP Event,6G IA Event,SNS JU Event
ATTACH;FMTTYPE=image/png:https://smart-networks.europa.eu/wp-content/uploads/2023/02/webinar-1-4-1.png
END:VEVENT
END:VCALENDAR