BEGIN:VCALENDAR
VERSION:2.0
PRODID:-//SNS JU - ECPv6.15.20//NONSGML v1.0//EN
CALSCALE:GREGORIAN
METHOD:PUBLISH
X-ORIGINAL-URL:https://smart-networks.europa.eu
X-WR-CALDESC:Events for SNS JU
REFRESH-INTERVAL;VALUE=DURATION:PT1H
X-Robots-Tag:noindex
X-PUBLISHED-TTL:PT1H
BEGIN:VTIMEZONE
TZID:Europe/Berlin
BEGIN:DAYLIGHT
TZOFFSETFROM:+0100
TZOFFSETTO:+0200
TZNAME:CEST
DTSTART:20220327T010000
END:DAYLIGHT
BEGIN:STANDARD
TZOFFSETFROM:+0200
TZOFFSETTO:+0100
TZNAME:CET
DTSTART:20221030T010000
END:STANDARD
BEGIN:DAYLIGHT
TZOFFSETFROM:+0100
TZOFFSETTO:+0200
TZNAME:CEST
DTSTART:20230326T010000
END:DAYLIGHT
BEGIN:STANDARD
TZOFFSETFROM:+0200
TZOFFSETTO:+0100
TZNAME:CET
DTSTART:20231029T010000
END:STANDARD
BEGIN:DAYLIGHT
TZOFFSETFROM:+0100
TZOFFSETTO:+0200
TZNAME:CEST
DTSTART:20240331T010000
END:DAYLIGHT
BEGIN:STANDARD
TZOFFSETFROM:+0200
TZOFFSETTO:+0100
TZNAME:CET
DTSTART:20241027T010000
END:STANDARD
END:VTIMEZONE
BEGIN:VEVENT
DTSTART;VALUE=DATE:20231106
DTEND;VALUE=DATE:20231109
DTSTAMP:20260422T053732
CREATED:20230729T124659Z
LAST-MODIFIED:20231027T093549Z
UID:20092-1699228800-1699487999@smart-networks.europa.eu
SUMMARY:Deploying applications in the 6G ERA: the dawn of highly-secure\, trustworthy\, scalable and adaptable ecosystems - Co-organised workshop
DESCRIPTION:aerOS project co-organises the “DEPLOYING APPLICATIONS IN THE 6G ERA: THE DAWN OF HIGHLY-SECURE\, TRUSTWORTHY\, SCALABLE AND ADAPTABLE ECOSYSTEMS” workshop in the context of IEEE International Workshop on Computer Aided Modeling and Design of Communication Links and Networks. \nWith 5G becoming mainstream after being deployed in several regions of the world\, the constant growth of interconnected devices and the demand for high data rate services compel the conceptualization of the next generation of networking which will address the needs of an “always connected” society. The astonishing numbers of interconnected devices supporting smart homes/cities/transportations\, e-health applications and consumer services\, push toward redesigning the Internet-of-Everything (IoE) paradigm with a user-centric approach\, thus extending the 5G-era shift from rate-centric enhanced mobile broadband services to ultra-reliable low-latency communications. \n6G Networks should be capable of unleashing the full potential of each application\, through the inherent support of contemporary wireless technologies\, cutting-edge network architectures\, AI/ML-based optimization techniques and over-the-top security features. It is often stated that 6G will facilitate the pivotal shift from present-day’s interconnected intelligent nodes to the much broader “connected intelligence”\, a holistic approach for delivering disruptive services\, thus introducing new heights of user satisfaction. \nIn this respect\, this Special Session aims at providing a forum where researchers\, engineers\, and practitioners may discuss the latest advances on architectures\, algorithms\, abstractions\, and technologies for delivering scalable\, secure\, trustworthy\, robust\, flexible\, and agile applications. We strongly encourage submission of innovative work on contemporary network and application design. \nFind out more on the workshop here.
URL:https://smart-networks.europa.eu/event/deploying-applications-in-the-6g-era-the-dawn-of-highly-secure-trustworthy-scalable-and-adaptable-ecosystems-co-organised-workshop/
LOCATION:Edin\, Edingburgh\, United Kingdom
CATEGORIES:Other Event
ATTACH;FMTTYPE=image/png:https://smart-networks.europa.eu/wp-content/uploads/2023/07/ieee-international-workshop-on-computer-aided-modeling-and-design-of-communication-links-and-networks-banner-e1698399324868.png
END:VEVENT
BEGIN:VEVENT
DTSTART;VALUE=DATE:20231106
DTEND;VALUE=DATE:20231109
DTSTAMP:20260422T053732
CREATED:20231113T153603Z
LAST-MODIFIED:20231113T153700Z
UID:20836-1699228800-1699487999@smart-networks.europa.eu
SUMMARY:Fourth Visions for Future Communications Summit in Lisbon
DESCRIPTION:Vision of Future Communications Summit (https://futurecomresearch.eu/) is a top-quality research workshop\, oriented to identify key research areas in information and communication technologies in the mid-future of 7 to 10 years. It will follow from the previous event held in 2017\, 2019\, and 2021\, considering that by 2030 6G will be reaching the market. Given the expected innovation cycle times\, it is now appropriate that we start discussions on Innovations after 6G . \nThe Summit will cover multiple research lines\, roughly structured along Physical Layer\, Network and Control Plane\, and Applications and Services. All sessions will be organized as panels of distinguished speakers from academia\, industry and High-level European Commission officials presenting their viewpoints on a subarea within each track. Panels will be enriched with contributions from an open call to the community\, and with sessions presenting long-term visions from different stakeholders. \nThe Visions on Future Communication Summit will be preceded by the Workshop on Realistic AI for Telecommunications. (https://futurecomresearch.eu/index.html). The events will take place on the 6th (workshop)\, 7th and 8th (Summit) of November\, in Lisbon. The Summit\, oriented towards highly-interactive communication between participants\, with very fluid interactions\, is oriented to identify key research areas in information and communication technologies in the mid-future of 7 to 10 years. It will follow from the previous event held in 2017\, 2019\, and 2021\, considering that by 2030 6G will be reaching the market. \nNetworld Europe will also organize in the 9th a physical meeting of the Expert Group (as well as a Steering Board meeting)\, to which you are invited to participate. This meeting will discuss the results of the previous days in the context of the organization of the work plan for the coming update of the Strategic Research and Innovation Agenda\, to be performed during the next half-year.
URL:https://smart-networks.europa.eu/event/fourth-visions-for-future-communications-summit-in-lisbon/
ATTACH;FMTTYPE=image/png:https://smart-networks.europa.eu/wp-content/uploads/2023/11/four-visions-summit-e1699889806672.png
END:VEVENT
END:VCALENDAR