BEGIN:VCALENDAR
VERSION:2.0
PRODID:-//SNS JU - ECPv6.15.20//NONSGML v1.0//EN
CALSCALE:GREGORIAN
METHOD:PUBLISH
X-ORIGINAL-URL:https://smart-networks.europa.eu
X-WR-CALDESC:Events for SNS JU
REFRESH-INTERVAL;VALUE=DURATION:PT1H
X-Robots-Tag:noindex
X-PUBLISHED-TTL:PT1H
BEGIN:VTIMEZONE
TZID:Europe/Berlin
BEGIN:DAYLIGHT
TZOFFSETFROM:+0100
TZOFFSETTO:+0200
TZNAME:CEST
DTSTART:20240331T010000
END:DAYLIGHT
BEGIN:STANDARD
TZOFFSETFROM:+0200
TZOFFSETTO:+0100
TZNAME:CET
DTSTART:20241027T010000
END:STANDARD
BEGIN:DAYLIGHT
TZOFFSETFROM:+0100
TZOFFSETTO:+0200
TZNAME:CEST
DTSTART:20250330T010000
END:DAYLIGHT
BEGIN:STANDARD
TZOFFSETFROM:+0200
TZOFFSETTO:+0100
TZNAME:CET
DTSTART:20251026T010000
END:STANDARD
BEGIN:DAYLIGHT
TZOFFSETFROM:+0100
TZOFFSETTO:+0200
TZNAME:CEST
DTSTART:20260329T010000
END:DAYLIGHT
BEGIN:STANDARD
TZOFFSETFROM:+0200
TZOFFSETTO:+0100
TZNAME:CET
DTSTART:20261025T010000
END:STANDARD
END:VTIMEZONE
BEGIN:VEVENT
DTSTART;VALUE=DATE:20250519
DTEND;VALUE=DATE:20250522
DTSTAMP:20260421T191312
CREATED:20250403T113111Z
LAST-MODIFIED:20250408T132235Z
UID:25315-1747612800-1747871999@smart-networks.europa.eu
SUMMARY:16th ITS European Congress in Seville\, Spain - 19 to 21 May 2025
DESCRIPTION:  \nWelcome to the 16th ITS European Congress in Seville \n\n\n\n\nThe flagship 2025 event for Intelligent Transportation Systems (ITS) in Europe\, uniting experts from mobility\, technology\, and policy to advance key European mobility and sustainability initiatives. The 16th ITS European Congress\, to be hosted in Seville\, Spain\, from 19 to 21 May 2025. The event is set to be Europe’s key platform for intelligent and sustainable mobility in 2025. Organised by ERTICO – ITS Europe and hosted with national and regional Spanish authorities\, the Congress will bring together 3\,500+ experts\, innovators\, and decision-makers. \nWith the theme of ‘Clean\, resilient and connected mobility’\, the ITS European Congress will demonstrate how digitalisation and sustainability go hand in hand. ITS will be crucial in shaping the mobility services of the future. By advancing the digital\, connected\, and automated aspects of transport\, ITS can help meet the challenges of reducing emissions\, strengthening the overall transport system\, and aligning with societal needs and expectations. \nAt its core\, the Technical Programme offers over 100 expert-led sessions exploring new ideas and breakthrough solutions. Alongside\, the High-Level Programme features senior leaders from the European Commission\, ESA\, Spanish and Finnish Transport Ministries\, and others shaping Europe’s transport future. Attendees can also explore an exhibition of 100+ exhibitors\, live demos\, and technical visits showcasing Seville’s smart mobility in action. Spanish innovation takes centre stage with a national pavilion led by ICEX and over 20 pioneering companies. The vibrant social programme includes the iconic ITS Dinner at the Casino de la Exposición – an unforgettable night of culture\, connection\, and celebration. \nDon’t miss out – Early Bird registration is open until 18 April \nProgramme of the event is available here. \nRegistration is available here.
URL:https://smart-networks.europa.eu/event/16th-its-european-congress-in-seville-spain-19-to-21-may-2025/
LOCATION:Seville\, Spain\, Seville\, Spain
CATEGORIES:6G IA Event,Other Event
ATTACH;FMTTYPE=image/jpeg:https://smart-networks.europa.eu/wp-content/uploads/2025/04/its-european-congress-2025.jpg
END:VEVENT
BEGIN:VEVENT
DTSTART;TZID=Europe/Berlin:20250519T100000
DTEND;TZID=Europe/Berlin:20250519T120000
DTSTAMP:20260421T191312
CREATED:20250519T102512Z
LAST-MODIFIED:20251014T150918Z
UID:25651-1747648800-1747656000@smart-networks.europa.eu
SUMMARY:6G IA & 5G ACIA Update on recent 5G/6G achievements
DESCRIPTION:The 6G Smart Networks and Services Industry Association (6G-IA) and the 5G Alliance for Connected Industries and Automation (5G-ACIA) invite you to join their webinar on  “5G and 6G Industry/Manufacturing Trials and Pilots (T&Ps) – Highlights\, Lessons Learnt\, “5G/6G Empowerment” and “Pain Points” on 19 May\, 10:00 – 12:00 CEST.  This event is supported by the SNS CO OP project. \nThis event will be an opportunity to present the key actions and achievements on 5G and 6G Industry/Manufacturing T&Ps\, from both 6G-IA (e.g. T&Ps Brochures\, Vertical Engagement Tracker (VET)\, Trials WG…) and 5G-ACIA (e.g. Testbed Brochure\, Industrial 5G User Guide…) perspectives\, targeting also to further develop synergies between both communities. \nThe Webinar will include one specific Session highlighting 2 SNS and 2 5G-ACIA Industry/Manufacturing T&Ps and one Panel Session to address the “5G / 6G Empowerment” (benefits/value brought by 5G Advanced / 6G that previous generations cannot provide) and the “Pain Points” for Industry/Manufacturing T&Ps. \n\nDraft Agenda:\n\n\n\nWebinar Timing\nWebinar Programme\n\n\n\n10:00 – 10:10 \n\n\nWebinar Welcome / Introduction (6G-IA\, 5G-ACIA\, MoU\, 5G-ACIA Nuremberg Meeting…) \n\n6G-IA: Colin Willcock (6G-IA Board Chairman).\n5G-ACIA: Andreas Mueller (5G-ACIA General Chair).\n\n\n\n\n10:10 – 10:20\n5G Infrastructure PPP and SNS Trials & Pilots (T&Ps) – 3 Major Highlights:\nKostas Trichias (6G-IA – SNS Technology Board (TB) Chairman) \n\n6G-IA – SNS Verticals Engagement Tracker (VET): Kostas Trichias (6G-IA – SNS TB Chairman).\n6G-IA – SNS T&Ps Brochures: Didier Bourse (6G-IA SNS T&Ps Brochures Core Team Chairman).\n6G-IA Trials WG: Carles Antón-Haro (6G-IA Trials WG Chairman).\n\n\n\n\n10:20 – 10:30\n5G-ACIA Trials & Pilots (T&Ps) – 3 Major Highlights:\nLisa Underberg (ifak | WG5 Chair 5G-ACIA and Niels König (Fraunhofer IPT | WG5 Vice-Chair 5G-ACIA) \n\n5G-ACIA Testbeds: Lisa Underberg (ifak | WG5 Chair 5G-ACIA).\n5G-ACIA Device Overview and Demo Wall 2.0: Niels König (Fraunhofer IPT | WG5 Vice-Chair 5G-ACIA).\n5G-ACIA Industrial 5G User Guide: Lisa Underberg (ifak | WG5 Chair 5G-ACIA).\n\n\n\n\n10:30 – 11:20\nHighlights on 5G/6G Industry/Manufacturing T&Ps – 4 Presentations\n(6G-IA Chair: Didier Bourse (6G-IA SNS T&Ps Brochures Core Team Chairman)– 5G-ACIA Chair: Lisa Underberg (ifak | WG5 Chair 5G-ACIA)) \n\nSNS Call 1 (2022) TARGET-X: Janina Gauß (Research Associate at Fraunhofer IPT – TARGET-X Project Manager).\nSNS Call 1 (2022) IMAGINE-B5G: Min Xie (IMAGINE-B5G Technical Manager).\n5G-ACIA “5G Millimeter Wave for Industrial Applications”: Niklas Beckmann (Research Fellow\, Fraunhofer IPT).\n5G-ACIA “End-to-end Communication for TSN over 5G”: Harsha Master (Architect at NXP Semiconductors).\n\n\n\n\n11:20 – 11:45\nPanel on Lessons learnt\, key take away points and overall “5G Empowerment” / “Pain Points” for Industry/Manufacturing T&Ps\n(6G-IA Chair: Carles Antón-Haro – 6G-IA Trials WG Chairman– 5G-ACIA Chair: Niels König (Fraunhofer IPT | WG5 Vice-Chair 5G-ACIA)) \n\nSpeakers from previous slot.\n6G-IA additional Panelist: SNS Call 1 (2022) TrialsNet:\nMarco Gramaglia (TrialsNet WP2 “Platform and Network Solutions” Leader).\n\n\n\n\n11:45 – 11:55\n\nTargeted 2025 5G (/6G) T&Ps on Industry/Manufacturing \n\nSNS 2025 T&Ps and SNS Call 2025 Stream D Projects Opportunities:\nDidier Bourse (6G-IA SNS Work Programmes Task Force / Core Team Chairman).\n5G-ACIA T&Ps – Key Highlights for 2025:\nLisa Underberg (ifak | WG5 Chair 5G-ACIA).\n\n\n\n\n11:55 – 12:00\n\nWebinar Conclusion \n\n6G-IA: Colin Willcock (6G-IA Board Chairman).\n5G-ACIA: Andreas Mueller (5G-ACIA General Chair).\n\n\n\n\n\n  \n\nRegistration:\nThe event is an online webinar and the access details will be shared automatically to all registrants in reply to their registration. \n\n\n  \n\n\n\nPlease fill and submit the form below to register for the webinar. Access details will be sent to your email address in reply.\n \nYour Family Name * \n \nYour First Name * \n \nYour Email * \n \nCompany/Organisation \n \nProject/Initiative you are representing \n \n GDPR STATEMENT: The information collected here will only be used for sending the Webinar access details and for announcing the availability of the event recordings.
URL:https://smart-networks.europa.eu/event/6g-ia-5g-acia-update-on-recent-5g-6g-achievements/
CATEGORIES:6G IA Event,SNS JU Event
ATTACH;FMTTYPE=image/jpeg:https://smart-networks.europa.eu/wp-content/uploads/2025/04/banner-workshop-6g-ia-5g-acia.jpg
END:VEVENT
END:VCALENDAR