BEGIN:VCALENDAR
VERSION:2.0
PRODID:-//SNS JU - ECPv6.15.20//NONSGML v1.0//EN
CALSCALE:GREGORIAN
METHOD:PUBLISH
X-WR-CALNAME:SNS JU
X-ORIGINAL-URL:https://smart-networks.europa.eu
X-WR-CALDESC:Events for SNS JU
REFRESH-INTERVAL;VALUE=DURATION:PT1H
X-Robots-Tag:noindex
X-PUBLISHED-TTL:PT1H
BEGIN:VTIMEZONE
TZID:Europe/Berlin
BEGIN:DAYLIGHT
TZOFFSETFROM:+0100
TZOFFSETTO:+0200
TZNAME:CEST
DTSTART:20240331T010000
END:DAYLIGHT
BEGIN:STANDARD
TZOFFSETFROM:+0200
TZOFFSETTO:+0100
TZNAME:CET
DTSTART:20241027T010000
END:STANDARD
BEGIN:DAYLIGHT
TZOFFSETFROM:+0100
TZOFFSETTO:+0200
TZNAME:CEST
DTSTART:20250330T010000
END:DAYLIGHT
BEGIN:STANDARD
TZOFFSETFROM:+0200
TZOFFSETTO:+0100
TZNAME:CET
DTSTART:20251026T010000
END:STANDARD
BEGIN:DAYLIGHT
TZOFFSETFROM:+0100
TZOFFSETTO:+0200
TZNAME:CEST
DTSTART:20260329T010000
END:DAYLIGHT
BEGIN:STANDARD
TZOFFSETFROM:+0200
TZOFFSETTO:+0100
TZNAME:CET
DTSTART:20261025T010000
END:STANDARD
END:VTIMEZONE
BEGIN:VEVENT
DTSTART;VALUE=DATE:20250526
DTEND;VALUE=DATE:20250530
DTSTAMP:20260421T191200
CREATED:20240913T123139Z
LAST-MODIFIED:20240913T123139Z
UID:23548-1748217600-1748563199@smart-networks.europa.eu
SUMMARY:IEEE International Conference on Machine Learning for Communication and Networking - 26-29 May 2025 - Barcelona\, Spain
DESCRIPTION:After a very successful first edition\, we kindly invite your original research paper submissions\, tutorial proposals\, special session proposals\, demo proposals and industry panel proposals\, to the second edition of IEEE International Conference on Machine Learning for Communication and Networking (IEEE ICMLCN 2025).  \nWe are pleased to invite researchers\, academics\, and industry professionals to submit their latest work and proposals to the IEEE ICMLCN 2025. This prestigious conference will be held in the vibrant city of Barcelona\, Spain\, from May 26 to 29\, 2025. \nImportant Dates: \nPaper Submissions: 31 October 2024 \nSpecial Session Proposals: 31 October 2024 \nDemo Proposals: 13 December 2024 \nTutorial Proposals: 13 December 2024 \nIndustry Panel Proposals: 13 December 2024 \nAcceptance Notification: 31 January 2025 \nCamera-Ready: 14 February 2025 \nIEEE ICMLCN 2025 aims to unite leading experts in machine learning\, communication\, networking\, and signal processing to discuss and promote cutting-edge innovations and applications. It provides a dynamic platform for the exchange of ideas\, fostering collaboration between academia and industry.  \nFor more information on call for papers and submission guidelines\, please visit https://icmlcn2025.ieee-icmlcn.org/call-papers and https://icmlcn2025.ieee-icmlcn.org/information-authors. \nFor tutorial proposals\, please visit https://icmlcn2025.ieee-icmlcn.org/call-tutorial-proposals. \n  \nFor special session proposals\, please visit https://icmlcn2025.ieee-icmlcn.org/call-papers/call-special-sessions. \nThe conference brings together researchers from the disciplines of Machine Learning (ML)\, Communication and Networking and Signal Processing\, and aims at promoting fundamental and applied research of ML for designing and analyzing communication systems and networks\, for developing communication protocols to support ML services\, as well as for advancing distributed ML over communication networks. The conference targets any communication and networking area\, such as\, but not limited to\, wireless\, satellite\, optical\, or molecular communications\, Internet\, and WLAN. Topics of interest include:  \n\nML and networking for intelligent transportation systems\nML and networking for smart grids\nML for signal processing in communication and networking \nML for the MAC layer\nML for the physical layer\nML for the transport layer\nCommunication-efficient distributed ML\nDistributed ML over communication networks\nFederated learning and communications\nLearn to transmit and receive\nResource management and network optimization\nSemantic communications and ML\nWireless communication to support ML services\nWireless networking to support ML services • ML and IoT\nLarge language models (LLMs) for communication and networking\nML and molecular networks\nML and optical networks\nML in Intelligent reflecting surfaces\nML and networking in smart cities\nDecentralized transmission optimization for edge learning\nDistributed multi-agent reinforcement learning\nEdge learning in wireless networks\nExperiments and testbeds\nIntegrated distributed optimization with edge learning\nIntegrated sensing and communication via ML\nNetwork architectures and protocols for edge learning\nOver-the-air computation for edge learning\nPrivacy and security issues with ML over networks\nTrustworthiness in ML decisions\n\nWe look forward to meeting you in Barcelona next summer!    _“The Organizing Committee” \n  \nMore information: https://icmlcn2025.ieee-icmlcn.org/ \n 
URL:https://smart-networks.europa.eu/event/ieee-international-conference-on-machine-learning-for-communication-and-networking-26-29-may-2025-barcelona-spain/
CATEGORIES:Other Event
ATTACH;FMTTYPE=image/png:https://smart-networks.europa.eu/wp-content/uploads/2024/09/ieee-barcelona.png
END:VEVENT
END:VCALENDAR