BEGIN:VCALENDAR
VERSION:2.0
PRODID:-//SNS JU - ECPv6.15.20//NONSGML v1.0//EN
CALSCALE:GREGORIAN
METHOD:PUBLISH
X-ORIGINAL-URL:https://smart-networks.europa.eu
X-WR-CALDESC:Events for SNS JU
REFRESH-INTERVAL;VALUE=DURATION:PT1H
X-Robots-Tag:noindex
X-PUBLISHED-TTL:PT1H
BEGIN:VTIMEZONE
TZID:Europe/Berlin
BEGIN:DAYLIGHT
TZOFFSETFROM:+0100
TZOFFSETTO:+0200
TZNAME:CEST
DTSTART:20220327T010000
END:DAYLIGHT
BEGIN:STANDARD
TZOFFSETFROM:+0200
TZOFFSETTO:+0100
TZNAME:CET
DTSTART:20221030T010000
END:STANDARD
BEGIN:DAYLIGHT
TZOFFSETFROM:+0100
TZOFFSETTO:+0200
TZNAME:CEST
DTSTART:20230326T010000
END:DAYLIGHT
BEGIN:STANDARD
TZOFFSETFROM:+0200
TZOFFSETTO:+0100
TZNAME:CET
DTSTART:20231029T010000
END:STANDARD
BEGIN:DAYLIGHT
TZOFFSETFROM:+0100
TZOFFSETTO:+0200
TZNAME:CEST
DTSTART:20240331T010000
END:DAYLIGHT
BEGIN:STANDARD
TZOFFSETFROM:+0200
TZOFFSETTO:+0100
TZNAME:CET
DTSTART:20241027T010000
END:STANDARD
END:VTIMEZONE
BEGIN:VEVENT
DTSTART;TZID=Europe/Berlin:20231205T133000
DTEND;TZID=Europe/Berlin:20231206T163000
DTSTAMP:20260420T225745
CREATED:20231110T162604Z
LAST-MODIFIED:20231110T162604Z
UID:20815-1701783000-1701880200@smart-networks.europa.eu
SUMMARY:PSCE Conference
DESCRIPTION:The PSCE conference will take place on 5th and 6th December in The Hague\, Netherlands and it will be hosted by the Dutch Police.  The two-days event will look into the topic of public safety and security within the context of the upcoming 2024 Olympic Games in France. Over the course of the two days\, three major themes will be discussed: \n\nResilient communications for large events\nManagement of the crowd\nEmergency management\n\nA collaborative session on ‘Mission Critical Apps’ will also take place on the second day of the Conference \nDates and Time of the event \n\nTuesday 5th December\, 13h30-16h15\nWednesday 6th December\, 09h30-16h15\n\nTo attend the event\, please complete the REGISTRATION FORM  \nFor any enquiries about this event\, please get in touch by email to secretariat@psc-europe.eu \nn large-scale events
URL:https://smart-networks.europa.eu/event/psce-conference/
LOCATION:PSCE Conference 2023\, Katschiplaan 10\,\, Den Haag\, 2496 ZN\, Netherlands
CATEGORIES:5G PPP Event,Other Event
ATTACH;FMTTYPE=image/png:https://smart-networks.europa.eu/wp-content/uploads/2023/11/capture-2.png
END:VEVENT
END:VCALENDAR