BEGIN:VCALENDAR
VERSION:2.0
PRODID:-//SNS JU - ECPv6.15.20//NONSGML v1.0//EN
CALSCALE:GREGORIAN
METHOD:PUBLISH
X-WR-CALNAME:SNS JU
X-ORIGINAL-URL:https://smart-networks.europa.eu
X-WR-CALDESC:Events for SNS JU
REFRESH-INTERVAL;VALUE=DURATION:PT1H
X-Robots-Tag:noindex
X-PUBLISHED-TTL:PT1H
BEGIN:VTIMEZONE
TZID:Europe/Berlin
BEGIN:DAYLIGHT
TZOFFSETFROM:+0100
TZOFFSETTO:+0200
TZNAME:CEST
DTSTART:20230326T010000
END:DAYLIGHT
BEGIN:STANDARD
TZOFFSETFROM:+0200
TZOFFSETTO:+0100
TZNAME:CET
DTSTART:20231029T010000
END:STANDARD
BEGIN:DAYLIGHT
TZOFFSETFROM:+0100
TZOFFSETTO:+0200
TZNAME:CEST
DTSTART:20240331T010000
END:DAYLIGHT
BEGIN:STANDARD
TZOFFSETFROM:+0200
TZOFFSETTO:+0100
TZNAME:CET
DTSTART:20241027T010000
END:STANDARD
BEGIN:DAYLIGHT
TZOFFSETFROM:+0100
TZOFFSETTO:+0200
TZNAME:CEST
DTSTART:20250330T010000
END:DAYLIGHT
BEGIN:STANDARD
TZOFFSETFROM:+0200
TZOFFSETTO:+0100
TZNAME:CET
DTSTART:20251026T010000
END:STANDARD
END:VTIMEZONE
BEGIN:VTIMEZONE
TZID:Europe/Athens
BEGIN:DAYLIGHT
TZOFFSETFROM:+0200
TZOFFSETTO:+0300
TZNAME:EEST
DTSTART:20230326T010000
END:DAYLIGHT
BEGIN:STANDARD
TZOFFSETFROM:+0300
TZOFFSETTO:+0200
TZNAME:EET
DTSTART:20231029T010000
END:STANDARD
BEGIN:DAYLIGHT
TZOFFSETFROM:+0200
TZOFFSETTO:+0300
TZNAME:EEST
DTSTART:20240331T010000
END:DAYLIGHT
BEGIN:STANDARD
TZOFFSETFROM:+0300
TZOFFSETTO:+0200
TZNAME:EET
DTSTART:20241027T010000
END:STANDARD
BEGIN:DAYLIGHT
TZOFFSETFROM:+0200
TZOFFSETTO:+0300
TZNAME:EEST
DTSTART:20250330T010000
END:DAYLIGHT
BEGIN:STANDARD
TZOFFSETFROM:+0300
TZOFFSETTO:+0200
TZNAME:EET
DTSTART:20251026T010000
END:STANDARD
END:VTIMEZONE
BEGIN:VEVENT
DTSTART;VALUE=DATE:20241007
DTEND;VALUE=DATE:20241011
DTSTAMP:20260420T224630
CREATED:20240604T083130Z
LAST-MODIFIED:20240604T083410Z
UID:23030-1728259200-1728604799@smart-networks.europa.eu
SUMMARY:DETERMINISTIC6G project Call for Papers  for the Workshop: Dependable wireless 6G communication IEEE Vehicular Technology Conference (VTC2024-Fall) 7-10 October 2024 | Washington DC\, USA
DESCRIPTION:Call for Papers \nWorkshop: Dependable wireless 6G communication \nIEEE Vehicular Technology Conference (VTC2024-Fall) \n7-10 October 2024 | Washington DC\, USA \n  \nDESCRIPTION  \nDigital transformation of the industrial processes together with the advent of Industry 5.0 that emphasizes sustainability\, resilience\, and a human-centric approach is expected to bring a radical change to the manufacturing industry. At the same time\, 6G as the next generation of wireless technology is envisioned to intelligently interconnect humans and machines from the physical world and their digital representations in the virtualized digital world. Advancements in cloud and edge computing\, artificial intelligence\, and robotics\, also opens new dimensions in revolutionizing these processes. Moreover\, digital twinning of the physical entities enables support for engineering\, maintenance\, reconfiguration\, and recycling of industrial automation systems. Accordingly\, numerous visionary use cases are expected to emerge requiring deterministic and dependable communication capabilities. The challenge of bounded low-latency communication is being addressed by standardization bodies such as IEEE 802.1\, IETF DetNet\, 3GPP time- sensitive communication\, and industrial alliances such as 5G-ACIA. Ultra-reliable and low-latency communication has been an important aspect of 5G communication that enables the support for determinism and integration with deterministic communication technologies and will further be developed under the 6G vision. Innovation and development are therefore needed in all supporting technologies. Communication through 6G technologies will enable and foster advancements in multiple industry verticals and is going to play a pivotal role in improving system efficiency and availability. \nThis workshop as an initiative of EU funded SNS project DETERMINISTIC6G and European Cooperation in Science & Technology (COST) The Intelligence-Enabling Radio Communications for Seamless Inclusive Interactions (INTERACT) aims at understanding the trends and vision of industry 5.0 use cases and corresponding latest developments in wireless communications. \n  \nFOCUS ON:  \nThe focus topics of the workshop are: \n\nUse cases and communication requirements posed for 6G systems by industry verticals\nAdvancements in wireless communications for cyber-physical system applications\nCommunications technologies enabling human-machine interaction and their continuum with the virtual world through digital twins\nEnhancements towards 6G on integration of time-sensitive networks (TSN) and deterministic networking (DetNet)\nChannel measurements and channel modelling • Routing and scheduling algorithms for reliable and real-time IoT\nWireless communication trade-offs in reliability\, latency\, and service availability for cyber-physical systems\nSafety and security aspects\, jamming prevention\, detection and mitigation techniques for dependable wireless communication\nTrustworthy edge and cloud computing architectures and services for data offloading of computationally intensive applications\nAdvanced artificial intelligence and machine learning techniques enabling extremely dependable networked systems\nExperimental deployment and validation of 5G communication and gap analysis leading to the development of 6G systems\n\n  \nSUBMISSION OF PAPERS:  \nAuthors are invited to submit original contributions written in English that have not been published or submitted for publication elsewhere. Technical papers must be formatted using the IEEE 2-column format and should be 5 pages (without overlength charge) and up to 2 additional pages are allowed with the purchase of additional page charges in the amount of $100 USD per additional page at the time of registration and final paper submission. Papers should be submitted through the trackchair submission system using the link https://vtc2024fall.trackchair.com/ \n  \nSubmission deadline: July. 01st\, 2024 \nAuthor notification: August. 22nd\, 2024 \nFinal submission: September. 5th\, 2024
URL:https://smart-networks.europa.eu/event/deterministic6g-project-call-for-papers-for-the-workshop-dependable-wireless-6g-communication-ieee-vehicular-technology-conference-vtc2024-fall-7-10-october-2024-washington-dc-usa/
LOCATION:Washington DC\, USA
CATEGORIES:Project Event
ATTACH;FMTTYPE=image/png:https://smart-networks.europa.eu/wp-content/uploads/2024/06/vtc-washington-2024-1.png
END:VEVENT
BEGIN:VEVENT
DTSTART;TZID=Europe/Berlin:20241008T090000
DTEND;TZID=Europe/Berlin:20241008T163000
DTSTAMP:20260420T224630
CREATED:20240730T090736Z
LAST-MODIFIED:20240730T090736Z
UID:23389-1728378000-1728405000@smart-networks.europa.eu
SUMMARY:HEXA-X-II Online workshop on integrated sensing and communication towards 6G co-organized with SNS JU Phase 1 & 2 Projects
DESCRIPTION:SNS JU Phase 1 & 2 Projects\nOnline workshop on integrated sensing and communication towards 6G\nTuesday\, October 8\, 2024\n\n\n\n\nRegister here: https://hexa-x-ii.eu/sns-isac-workshop/\n\nAgenda\n9:00-9:05\nIntroduction of the program \n9:05-9:35\nISAC from the ETSI perspective – Alain Mourad (Interdigital) \n9:35-10:00\nTIMES’s vision: waveform design\, tracking and NLOS sensing for THz ISAC – Mario Castañeda (Huawei) \n10:00-10:25\nTHz multi-functional RISs and ISAC– George C. Alexandropoulos (University of Athens) \n10:25-11:00\nJoint communication and sensing: status of the Hexa-X-II project – Henk Wymeersch (Chalmers University of Technology) \n10:50-11:00\nBreak \n11:00-11:25\nBE-GREEN: Experimental validation of a RIS-aided ISAC system – Vladica Sark\, (IHP Microelectronics) \n11:25-11:50\n6G-SENSES: Experimental Evaluation of OTFS for ISAC in mobile environments – Lukasz Lopacinski (IHP Microelectronics) \n11:50-12:20\nIntroduction to IEEE802.11bf – WLAN sensing – Tony Hanxiao (Huawei) \n12:20-13:00\nLunch break \n13:00-13:25\nINSTINCT – Joint sensing and communications for future interactive\, immersive\, and intelligent connectivity beyond communications – Angeliki Alexiou (University of Piraeus) \n13:25-13:50\niSEE-6G: Integrated sensing\, energy\, and communication for 6G networks – Objectives\, use cases\, architecture\, and initial achievements – Konstantinos Maliatsos (University of the Aegean) \n13:50-14:15\n6G-MUSICAL: An integrated approach to joint communication and sensing for 6G networks – Atílio Gameiro (Universidade de Aveiro) \n14:15-14:40\nArchitecture vision\, radio optimisation\, and network orchestration for distributed ISAC – Benoît Denis (CEA-Leti) \n14:40-15:00\nBreak \n15:00-15:30\nISAC from the 3GPP perspective – Yingyang Li (Xiaomi) \n15:30-16:30\nPanel discussion\, moderated – George Alexandropoulos (University of Athens) \nPanel members: \n\nPhilippe Sehier (Nokia)\nGabor Fodor (Ericsson)\nAndreas Müller (Bosch)\nGiuseppe Caire (TU Berlin)\n\n16:30\nClosing \n\n\n\n\nDOWNLOAD AGENDA AS PDF\n\n\n\n\n\n\n\n\n\nHexa-X-II Organisers\nHenk Wymeersch (Chalmers University of Technology\, SE)\nAhmad Nimr (Dresden University of Technology\, DE)\nNurul Mahmood (University of Oulu\, FI) \nThis event is is co-organized with several other SNS projects: \n\nTIMES\n6G-DISAC\nBe-GREEN\nTERRAMETA\n6G-SENSES\nINSTINCT\nISEE-6G\n6G-MUSICAL
URL:https://smart-networks.europa.eu/event/hexa-x-ii-online-workshop-on-integrated-sensing-and-communication-towards-6g-co-organized-with-sns-ju-phase-1-2-projects/
CATEGORIES:Project Event
ATTACH;FMTTYPE=image/png:https://smart-networks.europa.eu/wp-content/uploads/2024/07/hexa-online-workshop-on-integrated-sensing-and-communication-towards-6g.png
END:VEVENT
BEGIN:VEVENT
DTSTART;TZID=Europe/Athens:20241021T090000
DTEND;TZID=Europe/Athens:20241023T170000
DTSTAMP:20260420T224630
CREATED:20240531T154411Z
LAST-MODIFIED:20240903T101111Z
UID:23000-1729501200-1729702800@smart-networks.europa.eu
SUMMARY:SNS PROJECTS @ "Empowering 6G Networks: 1st Workshop on Advancements in Research Infrastructures\, Adaptive Frameworks and Global Architectural Evolution (ATHENA 2024)
DESCRIPTION:The 1st Workshop on “Empowering 6G Networks: 1st Workshop on Advancements in Research Infrastructures\, Adaptative Frameworks\, and Global Architectural Evolution” (ATHENA 2024) will take place in 21-23 October 2024 in Athens\, Greece. The workshop is supported by the SNS projects SAFE-6G\, 6G-SANDBOX\, ENVELOPPE\, ECOeNET\, ORIGAMI and 6G-EWOC. The co-organisers call for papers. \nThe IEEE International Workshop on Computer Aided Modeling and Design of Communication Links and Networks (CAMAD) 2024 invites researchers\, practitioners\, and industry experts to submit their original contributions to the workshop titled “Empowering 6G Networks: Workshop on Advancements in Research Infrastructures\, Adaptive Frameworks\, and Global Architectural Evolution.” \nMore information here. \n  \nImportant Dates: \n– Paper Submission Deadline: 30/06/2024 \n– Acceptance Notification: 15/07/2024 \n– Camera-Ready Submission: 22/07/2024
URL:https://smart-networks.europa.eu/event/sns-projects-1st-workshop-on-advancements-in-research-infrastructures-adaptive-frameworks-and-global-architectural-evolution-athena-2024/
LOCATION:Electra Palace Hotel\, 18-20 N. Nikodimou Street\, Athens\, 105 57\, Greece
CATEGORIES:Project Event
ATTACH;FMTTYPE=image/png:https://smart-networks.europa.eu/wp-content/uploads/2024/05/1st-workshop-on-advancements-in-research-infrastructures-adaptive-frameworks-and-global-architectural-evolution-athena-2024-2.png
END:VEVENT
BEGIN:VEVENT
DTSTART;TZID=Europe/Berlin:20241025T100000
DTEND;TZID=Europe/Berlin:20241025T123000
DTSTAMP:20260420T224630
CREATED:20241004T101027Z
LAST-MODIFIED:20241004T101103Z
UID:23652-1729850400-1729859400@smart-networks.europa.eu
SUMMARY:Embracing Key Values and Key Values Indicators: How can SNS projects drive sustainable change? An interactive workshop Jointly Organised by 6G4SOCIETY and FIDAL
DESCRIPTION:Event Details\n\nWhat: Workshop based on interactive dialogue and active contributions from participants.\nWho: Projects working on KVIs\nDate & Time: Friday 25th October\, 10h00-12h30\, Online\nRegistration form: https://ec.europa.eu/eusurvey/runner/KviWS2024\n\n⇒ FLYER\nIntroduction:\nAs we are moving towards 6G\, the interaction of humans with technologies is expected to bring unprecedented changes to the way people live and interact. By ensuring societal\, environmental and economic sustainability are addressed from the very early development of 6G\, the ambition of the SNS JU projects is to maximise benefits for individuals\, communities and businesses. This requires projects to anticipate and articulate how\, realistically and practically\, 6G can create positive impact at several levels. Currently\, projects are working with Key Value Indicators (KVIs) to do so. \nThe main goal of this workshop is to explore 1) how SNS projects are working with KVIs to address these positive impacts\, 2) challenges and best practices in defining and implementing KVIs\, and 3) what are the expected outcomes from using KVIs. The idea is to do this via interactive dialogues and active contributions from partners of ongoing SNS projects that are actively working on KVIs. \nThis workshop is the first in a series of workshops and webinars on 6G and Sustainability to be organised in collaboration with 6G4Society. This series will take on topics\, such as: \n\nBuilding consensus on the definitions of a select set of Key Values and related indicators (e.g. inclusivity\, circular economy)\, with external experts and vertical representatives.\nExploring approaches to validating indicators to value in ways that build public trust.\nConsidering the potential for interdependent indicators from different areas of sustainability (e.g.\, energy efficiency with inclusivity)\, with external experts.\nWorking with and moving beyond trade-offs.\n\nAbout this Workshop:\nObjectives: \n\nGather current approaches to identifying relevant KVIs and objectives within to build a map of how and why different projects (e.g. stream B\, C\, D) approach value prioritisation\,\nCollect challenges in defining and implementing KVIs to assess further support needs\,\nShare what works well in projects working with KVIs to collect best practices\,\nClarify the expected impacts of KVI use.\n\n \nFormat: \n15 min: Introductory Presentations (6G4S and FIDAL)\nSetting the scene. Short introduction of 6G4SOCIETY and its role as a CSA in ensuring that societal and sustainable values are embedded in the development of 6G; short overview of the experience in FIDAL in working with KVIs. \n20 min: Lightning Talks on single biggest challenge and best practice so far in projects\nInformal Roundtable. Each project will be given 2 minutes to share these two points as highlights. \n35 min: Interactive Session 1: Current approaches and challenges\nRepresentatives from SNS projects will work in small breakout groups via collaborative activities to share approaches and challenges with the goal of aligning on the main priorities to produce a view of what has been working well and where more work is needed. \n5 min: Break \n35 min: Interactive Session 2: What works well and KVI impact\nContinuing in small breakout groups\, projects will share what has worked well and collect projects’ understanding of the scope and scale of KVI impact\, seeking to build agreement about how KVIs can be used in the future. \n30 min: Sharing Results from Breakout Session in Plenary \n10 min: Wrap Up and Conclusion \nFor each active session\, participants will be allocated to a small breakout group. Each group will have a moderator that will guide the discussion and that will assign a rapporteur for the group. The rapporteur will report the key discussion points back to the Plenary. \nOutcomes:\nA short paper highlighting trends within projects\, best practices\, agreed definitions\, and gaps that need addressing. These outcomes will inform the work in the remainder of the series. \nPreparation Before Workshop:\nWe will send out a small set of discussion points to come prepared to discuss and a short poll to organise contributions and gather insights more effectively. No formal presentation preparation is needed. Some examples of questions that will be discussed: \n\nHow are starting values prioritised in projects?\nWho should use the results of KVIs\, and for what?\nWhat are the priority challenges projects are facing in defining KVIs?\nHow should KVIs support projects in addressing the societal and sustainability dimensions of technology in projects?\n\nTarget audience:\nWe welcome all interested participants to join us in this workshop. We greatly encourage those responsible for KVI development within SNS projects to participate during the breakout sessions to contribute to a rich and productive discussion output.
URL:https://smart-networks.europa.eu/event/embracing-key-values-and-key-values-indicators-how-can-sns-projects-drive-sustainable-change-an-interactive-workshop-jointly-organised-by-6g4society-and-fidal/
CATEGORIES:Project Event
ATTACH;FMTTYPE=image/png:https://smart-networks.europa.eu/wp-content/uploads/2024/10/interactive-workshop-6g4society-fidal-1-e1728036603465.png
END:VEVENT
END:VCALENDAR