BEGIN:VCALENDAR
VERSION:2.0
PRODID:-//SNS JU - ECPv6.15.20//NONSGML v1.0//EN
CALSCALE:GREGORIAN
METHOD:PUBLISH
X-ORIGINAL-URL:https://smart-networks.europa.eu
X-WR-CALDESC:Events for SNS JU
REFRESH-INTERVAL;VALUE=DURATION:PT1H
X-Robots-Tag:noindex
X-PUBLISHED-TTL:PT1H
BEGIN:VTIMEZONE
TZID:Europe/Berlin
BEGIN:DAYLIGHT
TZOFFSETFROM:+0100
TZOFFSETTO:+0200
TZNAME:CEST
DTSTART:20220327T010000
END:DAYLIGHT
BEGIN:STANDARD
TZOFFSETFROM:+0200
TZOFFSETTO:+0100
TZNAME:CET
DTSTART:20221030T010000
END:STANDARD
BEGIN:DAYLIGHT
TZOFFSETFROM:+0100
TZOFFSETTO:+0200
TZNAME:CEST
DTSTART:20230326T010000
END:DAYLIGHT
BEGIN:STANDARD
TZOFFSETFROM:+0200
TZOFFSETTO:+0100
TZNAME:CET
DTSTART:20231029T010000
END:STANDARD
BEGIN:DAYLIGHT
TZOFFSETFROM:+0100
TZOFFSETTO:+0200
TZNAME:CEST
DTSTART:20240331T010000
END:DAYLIGHT
BEGIN:STANDARD
TZOFFSETFROM:+0200
TZOFFSETTO:+0100
TZNAME:CET
DTSTART:20241027T010000
END:STANDARD
END:VTIMEZONE
BEGIN:VEVENT
DTSTART;TZID=Europe/Berlin:20230906T080000
DTEND;TZID=Europe/Berlin:20230908T170000
DTSTAMP:20260421T204802
CREATED:20230904T103210Z
LAST-MODIFIED:20230904T103210Z
UID:20395-1693987200-1694192400@smart-networks.europa.eu
SUMMARY:5G-STARDUST and 6G-NTN @IEEE WISEE 2023
DESCRIPTION:This IEEE conference will bring together investigators from the National Aeronautics and Space Administration (NASA)\, the Canadian Space Agency (CSA)\, the European Space Agency (ESA)\, and other space agencies\, along with aerospace and space defense industries and academic researchers\, in an effort to understand and solve the emerging problems facing wireless sensing and communication in space and related extreme environments. \nThe “Non-Terrestrial Networks for 6G Systems (NTN6G)” workshop at the event will be co-chaired by 6G-NTN Coordinator Alessandro Vanelli-Coralli (University of Bologna)\, together with partners Alessandro Guidotti (University of Bologna\, CNIT)\, Tomaso de Cola (DLR) and Mohammed El Jaafari (Thales Alenia Space France). \n6G-NTN Contributions to IEEE WiSEE 2023\nDuring the “Non-Terrestrial Networks for 6G Systems (NTN6G)” workshop\, Alessandro Guidotti will give a keynote speech on “The Evolution of NTN from 5G to 5G-Advanced and 6G”\, while researchers from the University of Bologna Carla Amatetti and Riccardo Campana will present a tutorial entitled “NB-IoT over NTN: Technology Overview\, Challenges\, and Potential Solutions”. \nIn the context of the “Glue Technologies for Extreme Application Scenarios (GLUE)” workshop\, University of Bologna’s Bruno De Filippo e Riccardo Campana will present a tutorial entitled “AI for Non-Terrestrial Networks”. \nFor more information on the event: https://2023.ieee-wisee.org/
URL:https://smart-networks.europa.eu/event/5g-stardust-and-6g-ntn-ieee-wisee-2023/
LOCATION:Complexo pedagógico da Universidade de Aveiro\, Campus Universitário de Santiago\,\, Aveiro\, 3810-193\, Portugal
CATEGORIES:Other Event,Project Event
END:VEVENT
END:VCALENDAR