BEGIN:VCALENDAR
VERSION:2.0
PRODID:-//SNS JU - ECPv6.15.20//NONSGML v1.0//EN
CALSCALE:GREGORIAN
METHOD:PUBLISH
X-ORIGINAL-URL:https://smart-networks.europa.eu
X-WR-CALDESC:Events for SNS JU
REFRESH-INTERVAL;VALUE=DURATION:PT1H
X-Robots-Tag:noindex
X-PUBLISHED-TTL:PT1H
BEGIN:VTIMEZONE
TZID:Europe/Berlin
BEGIN:DAYLIGHT
TZOFFSETFROM:+0100
TZOFFSETTO:+0200
TZNAME:CEST
DTSTART:20230326T010000
END:DAYLIGHT
BEGIN:STANDARD
TZOFFSETFROM:+0200
TZOFFSETTO:+0100
TZNAME:CET
DTSTART:20231029T010000
END:STANDARD
BEGIN:DAYLIGHT
TZOFFSETFROM:+0100
TZOFFSETTO:+0200
TZNAME:CEST
DTSTART:20240331T010000
END:DAYLIGHT
BEGIN:STANDARD
TZOFFSETFROM:+0200
TZOFFSETTO:+0100
TZNAME:CET
DTSTART:20241027T010000
END:STANDARD
BEGIN:DAYLIGHT
TZOFFSETFROM:+0100
TZOFFSETTO:+0200
TZNAME:CEST
DTSTART:20250330T010000
END:DAYLIGHT
BEGIN:STANDARD
TZOFFSETFROM:+0200
TZOFFSETTO:+0100
TZNAME:CET
DTSTART:20251026T010000
END:STANDARD
END:VTIMEZONE
BEGIN:VEVENT
DTSTART;TZID=Europe/Berlin:20240123T090000
DTEND;TZID=Europe/Berlin:20240123T173000
DTSTAMP:20260421T142716
CREATED:20231113T085352Z
LAST-MODIFIED:20240404T094901Z
UID:20825-1706000400-1706031000@smart-networks.europa.eu
SUMMARY:IAFA EVENT SERIES #3 – 6GSEC COMMON PATH AND CARDINAL POINTS “6GSEC CP²”
DESCRIPTION:The 6Gsec Common Path and Cardinal Points “6Gsec CP²” event was organised by the SNS OPS project\, ECSO and Networld Europe. It took place on the 23 of January 2024 in Paris\, France\, hosted by PTTC (Transfer Programme at the Cyber Campus). “6Gsec CP²” brings together the Cyber and 6G communities to discuss: \n\nEuropean policies\, threat landscapes and known challenges\nCurrent Research and innovation agendas\nTechnical focus and collaboration perspectives\n\nThis event was a unique opportunity for researchers\, practitioners\, and policymakers from both the Cyber and 6G communities to come together and share their insights on how to ensure the security of 6G networks and services. The event will feature several keynote speakers\, as well as panel discussions and technical sessions addressing the topics below: \n\nThe future of cybersecurity in the 6G era\nOpportunities to build mutual understanding\,\nResearch roadmap convergence and collaborations between the Cyber and 6G communities\n\n \n\nHighlights from the 6Gsec Conference 2024:\n\n\n  \nThe agenda was as follows:  \n\n09:30 – Host welcome\n10:00 – Policies landscape (Matteo Mole\, ESCO)\n10:30 – Strategic Research & Innovation Agenda (Fabio Martinelli\, ECSO WG6 chair\, IITR CNR – Rui Aguiar\, Network Europe Chair\, U.Veiro)\n12:00 – Threat Landscape (Apostolos Malatras\, Team Leader Enisa)\n12:30 – Lunch\n13:30 – 16h30: Technical discussions gathering European experts (round table)\n13h35 : Security architecture and distribution in 6G (Antonio Skarmeta\, Professor\, Head of Research Group\, U.Murcia – Daniel Kofman\, Co-CEO PEPR\, Director LINCS\, Telecom Sud-Paris IMT – Shahid Raza\, Director\, Cybersecurity Unit\, RISE)\n14h15: Secure AI for Secure 6G (Madhusanka Liyanage\, Asst. Prof.\, University College Dublin – Christos Xenakis\, Professor\, University of Piraeus – Gür Gürkan\, Senior Lecturer\, ZHAW)\n14h55: Pause Networking\n15h05: Crypto-based technologies application in 6G (Madhusanka Liyanage\, Asst. Prof.\, University College Dublin – Christos Xenakis\, Professor\, University of Piraeus – Eva Fogelstrom\, Director\, Security Research Ericsson – Samuel Dubus\, Dpt Head\, Security Research Laboratory\, NOKIA Bell Lab)\n15h45: Sharing Security Knowledge and deployment (Eva Fogelstrom\, Director\, Security Research Ericsson – Hervé Debar\, Research Director\, Telecom Sud Paris/IMT\, PEPR – Shahid Raza\, Director\, Cybersecurity Unit\, RISE)\n16h30 – 17h30: Paving the way for common roadmaps engaging both communities (Pavlos Fournogerakis\, Dpt Head of program\, Smart Network and Services SNS-JU – Miguel Gonzalez-Sancho\, Interim Executive Director ECCC – Fabio Martinelli\, ECSO WG6 chair\, IITR CNR- Rui Aguiar\, Network Europe Chair\, U.Veiro)\n\n  \n Date : January 23\, 2024\, 9:00 AM – 5:30 PM Location : Campus Cyber\, Paris 5-7 rue Bellini\, 92800 La Défense\, France Hosted by PTCC and organised by SNS-OPS\, ECSO\, NetworldEurope
URL:https://smart-networks.europa.eu/event/6gsec-common-path-and-cardinal-points-6gsec-cp%c2%b2-save-the-date/
LOCATION:Campus Cyber\, 5-7 rue Bellini\, La Défense\, 92800\, France
CATEGORIES:Project Event
ATTACH;FMTTYPE=image/jpeg:https://smart-networks.europa.eu/wp-content/uploads/2023/11/6gsec.jpg
END:VEVENT
END:VCALENDAR