BEGIN:VCALENDAR
VERSION:2.0
PRODID:-//SNS JU - ECPv6.15.20//NONSGML v1.0//EN
CALSCALE:GREGORIAN
METHOD:PUBLISH
X-ORIGINAL-URL:https://smart-networks.europa.eu
X-WR-CALDESC:Events for SNS JU
REFRESH-INTERVAL;VALUE=DURATION:PT1H
X-Robots-Tag:noindex
X-PUBLISHED-TTL:PT1H
BEGIN:VTIMEZONE
TZID:Europe/Berlin
BEGIN:DAYLIGHT
TZOFFSETFROM:+0100
TZOFFSETTO:+0200
TZNAME:CEST
DTSTART:20230326T010000
END:DAYLIGHT
BEGIN:STANDARD
TZOFFSETFROM:+0200
TZOFFSETTO:+0100
TZNAME:CET
DTSTART:20231029T010000
END:STANDARD
BEGIN:DAYLIGHT
TZOFFSETFROM:+0100
TZOFFSETTO:+0200
TZNAME:CEST
DTSTART:20240331T010000
END:DAYLIGHT
BEGIN:STANDARD
TZOFFSETFROM:+0200
TZOFFSETTO:+0100
TZNAME:CET
DTSTART:20241027T010000
END:STANDARD
BEGIN:DAYLIGHT
TZOFFSETFROM:+0100
TZOFFSETTO:+0200
TZNAME:CEST
DTSTART:20250330T010000
END:DAYLIGHT
BEGIN:STANDARD
TZOFFSETFROM:+0200
TZOFFSETTO:+0100
TZNAME:CET
DTSTART:20251026T010000
END:STANDARD
END:VTIMEZONE
BEGIN:VEVENT
DTSTART;VALUE=DATE:20241007
DTEND;VALUE=DATE:20241011
DTSTAMP:20260421T003243
CREATED:20240604T083130Z
LAST-MODIFIED:20240604T083410Z
UID:23030-1728259200-1728604799@smart-networks.europa.eu
SUMMARY:DETERMINISTIC6G project Call for Papers  for the Workshop: Dependable wireless 6G communication IEEE Vehicular Technology Conference (VTC2024-Fall) 7-10 October 2024 | Washington DC\, USA
DESCRIPTION:Call for Papers \nWorkshop: Dependable wireless 6G communication \nIEEE Vehicular Technology Conference (VTC2024-Fall) \n7-10 October 2024 | Washington DC\, USA \n  \nDESCRIPTION  \nDigital transformation of the industrial processes together with the advent of Industry 5.0 that emphasizes sustainability\, resilience\, and a human-centric approach is expected to bring a radical change to the manufacturing industry. At the same time\, 6G as the next generation of wireless technology is envisioned to intelligently interconnect humans and machines from the physical world and their digital representations in the virtualized digital world. Advancements in cloud and edge computing\, artificial intelligence\, and robotics\, also opens new dimensions in revolutionizing these processes. Moreover\, digital twinning of the physical entities enables support for engineering\, maintenance\, reconfiguration\, and recycling of industrial automation systems. Accordingly\, numerous visionary use cases are expected to emerge requiring deterministic and dependable communication capabilities. The challenge of bounded low-latency communication is being addressed by standardization bodies such as IEEE 802.1\, IETF DetNet\, 3GPP time- sensitive communication\, and industrial alliances such as 5G-ACIA. Ultra-reliable and low-latency communication has been an important aspect of 5G communication that enables the support for determinism and integration with deterministic communication technologies and will further be developed under the 6G vision. Innovation and development are therefore needed in all supporting technologies. Communication through 6G technologies will enable and foster advancements in multiple industry verticals and is going to play a pivotal role in improving system efficiency and availability. \nThis workshop as an initiative of EU funded SNS project DETERMINISTIC6G and European Cooperation in Science & Technology (COST) The Intelligence-Enabling Radio Communications for Seamless Inclusive Interactions (INTERACT) aims at understanding the trends and vision of industry 5.0 use cases and corresponding latest developments in wireless communications. \n  \nFOCUS ON:  \nThe focus topics of the workshop are: \n\nUse cases and communication requirements posed for 6G systems by industry verticals\nAdvancements in wireless communications for cyber-physical system applications\nCommunications technologies enabling human-machine interaction and their continuum with the virtual world through digital twins\nEnhancements towards 6G on integration of time-sensitive networks (TSN) and deterministic networking (DetNet)\nChannel measurements and channel modelling • Routing and scheduling algorithms for reliable and real-time IoT\nWireless communication trade-offs in reliability\, latency\, and service availability for cyber-physical systems\nSafety and security aspects\, jamming prevention\, detection and mitigation techniques for dependable wireless communication\nTrustworthy edge and cloud computing architectures and services for data offloading of computationally intensive applications\nAdvanced artificial intelligence and machine learning techniques enabling extremely dependable networked systems\nExperimental deployment and validation of 5G communication and gap analysis leading to the development of 6G systems\n\n  \nSUBMISSION OF PAPERS:  \nAuthors are invited to submit original contributions written in English that have not been published or submitted for publication elsewhere. Technical papers must be formatted using the IEEE 2-column format and should be 5 pages (without overlength charge) and up to 2 additional pages are allowed with the purchase of additional page charges in the amount of $100 USD per additional page at the time of registration and final paper submission. Papers should be submitted through the trackchair submission system using the link https://vtc2024fall.trackchair.com/ \n  \nSubmission deadline: July. 01st\, 2024 \nAuthor notification: August. 22nd\, 2024 \nFinal submission: September. 5th\, 2024
URL:https://smart-networks.europa.eu/event/deterministic6g-project-call-for-papers-for-the-workshop-dependable-wireless-6g-communication-ieee-vehicular-technology-conference-vtc2024-fall-7-10-october-2024-washington-dc-usa/
LOCATION:Washington DC\, USA
CATEGORIES:Project Event
ATTACH;FMTTYPE=image/png:https://smart-networks.europa.eu/wp-content/uploads/2024/06/vtc-washington-2024-1.png
END:VEVENT
END:VCALENDAR