BEGIN:VCALENDAR
VERSION:2.0
PRODID:-//SNS JU - ECPv6.15.20//NONSGML v1.0//EN
CALSCALE:GREGORIAN
METHOD:PUBLISH
X-WR-CALNAME:SNS JU
X-ORIGINAL-URL:https://smart-networks.europa.eu
X-WR-CALDESC:Events for SNS JU
REFRESH-INTERVAL;VALUE=DURATION:PT1H
X-Robots-Tag:noindex
X-PUBLISHED-TTL:PT1H
BEGIN:VTIMEZONE
TZID:Europe/Berlin
BEGIN:DAYLIGHT
TZOFFSETFROM:+0100
TZOFFSETTO:+0200
TZNAME:CEST
DTSTART:20220327T010000
END:DAYLIGHT
BEGIN:STANDARD
TZOFFSETFROM:+0200
TZOFFSETTO:+0100
TZNAME:CET
DTSTART:20221030T010000
END:STANDARD
BEGIN:DAYLIGHT
TZOFFSETFROM:+0100
TZOFFSETTO:+0200
TZNAME:CEST
DTSTART:20230326T010000
END:DAYLIGHT
BEGIN:STANDARD
TZOFFSETFROM:+0200
TZOFFSETTO:+0100
TZNAME:CET
DTSTART:20231029T010000
END:STANDARD
BEGIN:DAYLIGHT
TZOFFSETFROM:+0100
TZOFFSETTO:+0200
TZNAME:CEST
DTSTART:20240331T010000
END:DAYLIGHT
BEGIN:STANDARD
TZOFFSETFROM:+0200
TZOFFSETTO:+0100
TZNAME:CET
DTSTART:20241027T010000
END:STANDARD
END:VTIMEZONE
BEGIN:VEVENT
DTSTART;TZID=Europe/Berlin:20230906T080000
DTEND;TZID=Europe/Berlin:20230908T170000
DTSTAMP:20260422T071109
CREATED:20230904T103210Z
LAST-MODIFIED:20230904T103210Z
UID:20395-1693987200-1694192400@smart-networks.europa.eu
SUMMARY:5G-STARDUST and 6G-NTN @IEEE WISEE 2023
DESCRIPTION:This IEEE conference will bring together investigators from the National Aeronautics and Space Administration (NASA)\, the Canadian Space Agency (CSA)\, the European Space Agency (ESA)\, and other space agencies\, along with aerospace and space defense industries and academic researchers\, in an effort to understand and solve the emerging problems facing wireless sensing and communication in space and related extreme environments. \nThe “Non-Terrestrial Networks for 6G Systems (NTN6G)” workshop at the event will be co-chaired by 6G-NTN Coordinator Alessandro Vanelli-Coralli (University of Bologna)\, together with partners Alessandro Guidotti (University of Bologna\, CNIT)\, Tomaso de Cola (DLR) and Mohammed El Jaafari (Thales Alenia Space France). \n6G-NTN Contributions to IEEE WiSEE 2023\nDuring the “Non-Terrestrial Networks for 6G Systems (NTN6G)” workshop\, Alessandro Guidotti will give a keynote speech on “The Evolution of NTN from 5G to 5G-Advanced and 6G”\, while researchers from the University of Bologna Carla Amatetti and Riccardo Campana will present a tutorial entitled “NB-IoT over NTN: Technology Overview\, Challenges\, and Potential Solutions”. \nIn the context of the “Glue Technologies for Extreme Application Scenarios (GLUE)” workshop\, University of Bologna’s Bruno De Filippo e Riccardo Campana will present a tutorial entitled “AI for Non-Terrestrial Networks”. \nFor more information on the event: https://2023.ieee-wisee.org/
URL:https://smart-networks.europa.eu/event/5g-stardust-and-6g-ntn-ieee-wisee-2023/
LOCATION:Complexo pedagógico da Universidade de Aveiro\, Campus Universitário de Santiago\,\, Aveiro\, 3810-193\, Portugal
CATEGORIES:Other Event,Project Event
END:VEVENT
BEGIN:VEVENT
DTSTART;TZID=Europe/Berlin:20230906T110000
DTEND;TZID=Europe/Berlin:20230906T123000
DTSTAMP:20260422T071109
CREATED:20230824T091119Z
LAST-MODIFIED:20230907T121843Z
UID:20195-1693998000-1694003400@smart-networks.europa.eu
SUMMARY:Taiwan's 6G Vision and Competences
DESCRIPTION:The Smart Networks and Services International and European Cooperation Ecosystem (SNS-ICE) project organized an open webinar on Wednesday 6th of September\, 11.00 – 12.30 CEST to explore the 6G Vision & Competences of Taiwanese partners\, in the context of its international Collaboration activities. \nIn this webinar the 6G Vision of EU and Taiwan was be outlined and the Taiwanese partners presented their expertise and competences in relevant fields of research and technology\, in an attempt to explore future synergies with EU based partners.  The video is available at the bottom of this page. \nAGENDA \n\n\n\nOpening Remarks\nDr. Colin Willcock\, Chairman\, 6G-IA Governing Board\, Chairman\, SNS-JU Governing Board\n\n\nDr. Chih-Hsiang Chang\, Officer\, Department of Industrial Technology\, Ministry of Economic Affairs\n\n\nEuropean 6G Vision and Research Activities\nDr. Alexandros Kaloxylos\, 6G-IA Executive Director\n\n\nPresentations from  Taiwanese Stakeholders \n\n\n\n\n\n\n\n	OrganizationTopic (Click to see slides)AbstractSpeaker\n\n\n\n\n	Industrial Technology Research Institute (ITRI)RIS Testing Framework1. Electronic RIS module/array designs/System level simulator\n2. We are looking for: Various RIS designs/fabrications (e.g. meta-material\, liquid crystal etc.)/RIS channel modelsChiu-Ping Wu/ Engineer\n\n\n	National Chung Cheng UniversityRIS Prototyping and Integration with O-RAN RICWe have developed a millimeter-wave RIS prototyping technique\, where a series of RIS prototypes in 3-30 GHz have been implemented with scalable element number from tens to thousands and beam reconfiguration time in tens of milliseconds. Also the network-assisted control of RIS beams by the O-RAN RIC has been carried out. We are looking forward to collaboration for RIS advancementShengfuh Chang/Professor \n\n\n	Auden Technology CorporationRIS and mmWave TechnologyAuden provide 6G RF/Antenna solutionStanley Tsai/ Manager\n\n\n	LITE-ON Technology CorporationToward Ubiquitous mmWave Connectivity: RIS-Aided mmWave with O-RAN RICLITEON provides a comprehensive indoor 5G mmWave deployment solution. Through the utilization of Reconfigurable Intelligent Surfaces (RIS) that can be dynamically configured by the RAN Intelligent Controller (RIC) via the E2 interface\, this integrated strategy notably enhances the coverage of mmWave radio units\, leading to substantial reductions in deployment expensesSarah Lin / Sales Manager\n\n\n	YTTEKTomorrow's wireless\, todayYTTEK innovative 6G power efficient mmWave RIS solutionJiang-Son Chen /CEO and Founder\n\n\n	National Sun Yat-sen University6G Upper-Midband Higher- Order MIMO Mobile Communication SystemsWe will briefly introduce the research team in NSYSU as well as the MIMO testbed developed by our team.Wan-Jen Huang /Associate Professor\n\n\n	Industrial Technology Research Institute (ITRI)Building the Foundation for 6G Success: The Role of JCAS and Key Technical Enablers1. Radio Design: JCAS Channel modeling/Waveform\, frame structure\, JCAS multiplexing\n2. Sensing Technique: Distributed sensing/Multi-band sensing\n3. AI/ML Collaboration: Communication/sensing enhancement through sensing/communication/AI/ML processing and sensor fusion\n4. Privacy and securityWei-Cheng Wang/ Engineer\n\n\n	Institute for Information Industry (III)6G AI-Native and AI-Empowered RAN6G AI-Native and AI-Empowered RANBryan Chen / Section Manager\n\n\n	National Taiwan University of Science and TechnologyOpen Integrated Optical and Wireless Prototype System: AI/ML Platform\, Software-Defined PHY via OpenCL & RU/RIS Antenna and Scattering Measurement Systems[AI/ML Platform] - The AI/ML platform integration focuses on automation\, data-centricity\, and intelligence. This objective involves exploring platform architecture\, data collection\, model training\, deployment\, and inference.Jenq-Shiou Leu / Professor\n\n\n	National Yang Ming Chiao Tung Universityfree5GCThe free5GC is an open-source project for 5th generation (5G) mobile core networks. The ultimate goal of this project is to implement the 5G core network (5GC) defined in 3GPP Release 15 (R15) and beyond.Chien Chen/Professor\n\n\n	Compal Electronics IncB5G/6G Convergence NetworkNext Generation Satellite Connectivity over 3GPP Standard\, integration with 5G infrastructure and software defined networkAtoe Lin/Product & Marketing Director\n\n\n	TMYTEKElectronic steering antenna architecture innovation & 6G connectivity convergenceTMYTEK's innovative Electronic steering antenna architecture has following major advantages:\n1. Easy to scale/tile up to achieve cost effectiveness\n2. Lego unit concept to enhance design & calibration flexibility\n3. One architecture suits both TN & NTN use caseMichael Lin/Head of Global Business Development & Strategic Partnership\n\n\n	National Taiwan UniversityTotal NTN/3D Communications SolutionNTN\, 3D communications and extended ground penetrationHsuan-Jung Su/Professor\n\n\n	Industrial Technology Research Institute (ITRI)Video Coding for 6G ApplicationsITRI video team has been working on technologies of video coding\, streaming\, processing\, AI/ML and multimedia applications for more than ten years. In recent years\, we are also committed to exploring potential applications for B5G/6G communication and developing prototyping systems in various usage scenarios. It is our intention to investigate the technical requirements for 6G technologies and demonstrate the vision of 6G communication.Sheng-Po Wang /Senior Engineer\n\n\n\n\n\n\n\nClosing Statements\nDr. Alexandros Kaloxylos\, 6G-IA Executive Director\n\n\n\nVIDEO\nYou may see the video of the event here – \nhttps://smart-networks.europa.eu/wp-content/uploads/2023/09/6g-vision-and-competences-taiwan-20230906-0900-1.mp4\n\nBACKGROUND:\nThe SNS ICE project provides a collaborative environment for dialogues among European and global stakeholders active in 6G smart networks and services. It is the instrument to present\, leverage\, and position the SNS JU activities and achievements in major European and global fora. \nThe project works globally with other regions\, where 6G activities are planned and ongoing. SNS-ICE creates an environment to promote SNS JU results and achievements and exchange trends and ideas to achieve global consensus.
URL:https://smart-networks.europa.eu/event/taiwans-6g-vision-and-competences/
LOCATION:Online event
CATEGORIES:6G IA Event,SNS JU Event
ATTACH;FMTTYPE=image/png:https://smart-networks.europa.eu/wp-content/uploads/2023/08/eu-taiwan-2-e1692952658429.png
END:VEVENT
BEGIN:VEVENT
DTSTART;TZID=Europe/Berlin:20230918T100000
DTEND;TZID=Europe/Berlin:20230918T113000
DTSTAMP:20260422T071109
CREATED:20230914T151843Z
LAST-MODIFIED:20230914T151843Z
UID:20464-1695031200-1695036600@smart-networks.europa.eu
SUMMARY:6G-IA Position Paper presentation - Webinar
DESCRIPTION:The first 6G-IA Position paper is now ready\, and we are happy to invite you to a webinar where the main section editors will present the key positions of 6G-IA on critical issues/aspects such us technological sovereignty\, AI\, sustainability\, security & privacy and more. \nThis webinar will take place on Monday 18th of September 2023 between 10.00 am and 11.30 am CEST. This will be an open event for all\, so feel free to forward this invitation. \nPlease register for this event here\, in order to receive the Webex bridge details. \nThe event agenda can also be found in the provided link.
URL:https://smart-networks.europa.eu/event/6g-ia-position-paper-presentation-webinar/
ATTACH;FMTTYPE=image/png:https://smart-networks.europa.eu/wp-content/uploads/2023/09/6g-ia-menu-logo-2.png
END:VEVENT
END:VCALENDAR