BEGIN:VCALENDAR
VERSION:2.0
PRODID:-//SNS JU - ECPv6.15.20//NONSGML v1.0//EN
CALSCALE:GREGORIAN
METHOD:PUBLISH
X-WR-CALNAME:SNS JU
X-ORIGINAL-URL:https://smart-networks.europa.eu
X-WR-CALDESC:Events for SNS JU
REFRESH-INTERVAL;VALUE=DURATION:PT1H
X-Robots-Tag:noindex
X-PUBLISHED-TTL:PT1H
BEGIN:VTIMEZONE
TZID:Europe/Berlin
BEGIN:DAYLIGHT
TZOFFSETFROM:+0100
TZOFFSETTO:+0200
TZNAME:CEST
DTSTART:20230326T010000
END:DAYLIGHT
BEGIN:STANDARD
TZOFFSETFROM:+0200
TZOFFSETTO:+0100
TZNAME:CET
DTSTART:20231029T010000
END:STANDARD
BEGIN:DAYLIGHT
TZOFFSETFROM:+0100
TZOFFSETTO:+0200
TZNAME:CEST
DTSTART:20240331T010000
END:DAYLIGHT
BEGIN:STANDARD
TZOFFSETFROM:+0200
TZOFFSETTO:+0100
TZNAME:CET
DTSTART:20241027T010000
END:STANDARD
BEGIN:DAYLIGHT
TZOFFSETFROM:+0100
TZOFFSETTO:+0200
TZNAME:CEST
DTSTART:20250330T010000
END:DAYLIGHT
BEGIN:STANDARD
TZOFFSETFROM:+0200
TZOFFSETTO:+0100
TZNAME:CET
DTSTART:20251026T010000
END:STANDARD
END:VTIMEZONE
BEGIN:VEVENT
DTSTART;VALUE=DATE:20240603
DTEND;VALUE=DATE:20240607
DTSTAMP:20260421T160037
CREATED:20231026T075139Z
LAST-MODIFIED:20240130T135513Z
UID:20624-1717372800-1717718399@smart-networks.europa.eu
SUMMARY:EuCNC & 6G Summit 2024
DESCRIPTION:The 2024 EuCNC & 6G Summit builds on putting together two successful conferences in the area of telecommunications: EuCNC\, in its 33rd edition of a series\, supported by the European Commission; the 6G Summit\, in its 6th edition\, originated from the 6G Flagship programme in Finland\, one of the very first in its area. The conference is sponsored by the IEEE Communications Society (ComSoc)\, the European Association for Signal Processing (EURASIP) and the European Association on Antennas and Propagation (EurAAP) and supported by the European Commission. The conference addresses various aspects of Beyond 5G/6G communications systems and networks.  It brings together cutting-edge research and world-renown industries and businesses\, globally attracting in the last years more than 700 delegates from more than 40 countries all over the world\, to present and discuss the latest results\, and an exhibition with more than 50 exhibitors\, for demonstrating the technology developed in the area\, namely within research projects from EU R&I programmes. The conference program will include: \n\nKeynotes\nPanels\nRegular oral sessions (papers from open call\, to be submitted for uploading to IEEE Xplore)\nSpecial and Convened sessions\, with papers on specific topics\nWorkshops\, with papers and presentations on specific topics\nPoster sessions (extended abstracts from open call addressing latest results)\nTutorials\nDemos and exhibitions\, with pitches\n\nKey dates:\n\n26 Jan. 2024 – Deadline for submission of papers for regular oral sessions\n9 Feb. 2024 – Extended deadline for submission of proposals for workshops\, special sessions and tutorials\n8 Mar. 2024 – Deadline for submission of extended abstracts for posters\n8 Mar. 2024 – Notification of acceptance of workshops\, special sessions and tutorials\n29 Mar. 2024 – Deadline for submission of proposals for exhibitions\n1 Apr. 2024 – Notification of acceptance of papers and extended abstracts\n12 Apr. 2024 – Deadline for final papers for all sessions and workshops\n19 Apr. 2024 – Deadline for authors registration\n26 Apr. 2024 – Draft programme available\n\n  Please find more information about the event here.
URL:https://smart-networks.europa.eu/event/eucnc-6g-summit-2024/
LOCATION:Antwerp\, Belgium\, Antwerp\, Belgium
ATTACH;FMTTYPE=image/png:https://smart-networks.europa.eu/wp-content/uploads/2023/10/eucnc-6g-summit-e1698306663161.png
END:VEVENT
BEGIN:VEVENT
DTSTART;VALUE=DATE:20240609
DTEND;VALUE=DATE:20240614
DTSTAMP:20260421T160037
CREATED:20240104T093551Z
LAST-MODIFIED:20240104T093551Z
UID:21537-1717891200-1718323199@smart-networks.europa.eu
SUMMARY:IEEE International Conference on Communication ICC 2024
DESCRIPTION:IEEE ICC 2024 will be held in Denver\, Colorado\, from 9 to 13 June 2024.  \nIEEE ICC 2024 will focus on “Scaling the Peaks of Global Communications“.  We will feature a comprehensive high-quality technical program including 13 symposia and a variety of tutorials and workshops.  IEEE ICC 2024 will also include an attractive industry program aimed at practitioners\, with keynotes and panels from prominent research\, industry and government leaders\, business and industry panels\, and technological exhibits. \nIEEE ICC 2024 conference will be held fully in person.  \nMore information here.
URL:https://smart-networks.europa.eu/event/ieee-international-conference-on-communication-icc-2024/
LOCATION:Sheraton Denver Downtown Hotel\, 1550 Court Pl\, Denver\, CO\, 80202\, United States
ATTACH;FMTTYPE=image/png:https://smart-networks.europa.eu/wp-content/uploads/2024/01/ieee-icc-2024.png
END:VEVENT
BEGIN:VEVENT
DTSTART;TZID=Europe/Berlin:20240627T093000
DTEND;TZID=Europe/Berlin:20240627T110000
DTSTAMP:20260421T160037
CREATED:20240617T073936Z
LAST-MODIFIED:20240627T100352Z
UID:23068-1719480600-1719486000@smart-networks.europa.eu
SUMMARY:SNS-OPS Questionnaire Results of Call 1 & 2 SNS Projects
DESCRIPTION:Event Description:\nThe Smart Networks and Services Joint Undertaking (SNS JU) 28 call 2 Research and Innovation projects commenced operations as of 1 January 2024. It will add themselves to the 35 running projects from the previous call 1 projects since January 2023. In total those 63 ongoing projects take both evolutionary and revolutionary approaches towards the research and development of novel technologies\, functionalities and ecosystems that will enable the transition towards 6G networks by 2030. \nThe SNS-OPS Coordination & Support Action project\, tasked with supporting the projects’ work and promoting the key messages of the SNS Joint Undertaking\, has conducted an extensive survey during the first semester of 2024 to obtain additional information about each project’s technical aspects\, vision\, approach and achievements. \nThe goal of this survey was to understand better the work planned to be performed in each call 2 project\, the combined challenges with Call 2 projects\, and the progress achieved so far by Call 1 projects. \nDate: Thursday 27th June\nTime: 9.30 -11.00 CEST\nLocation: Online Webinar \n[mk_button corner_style=”full_rounded” size=”x-large” icon=”mk-icon-youtube” url=”https://youtu.be/wSvGtH82JrA” target=”_blank” align=”center” bg_color=”#dd3333″]Watch the recording here[/mk_button] \nAgenda:\n\n\n\n\n	Time (CET)PresenterSubjectPresenter Affiliation\n\n\n	09.30 – 09.35Colin WillcockWelcomeSNS JU GB chairman\n\n\n	09.35 – 10.05Kostas TrichiasSNS OPS Questionnaire Introduction & SNS Call 2 Projects – Technical Insights6G-IA\, SNS OPS WP1 Leader\n\n\n	10.05 – 10.20Didier BourseSNS Call 2 Projects – VisionNokia\, SNS OPS\n\n\n	10.20 – 10.40Jessica CarneiroSNS Call 2 Projects – Market InsightsAustralo\, SNS OPS WP4 Leader\n\n\n	10.40 – 10.50Arda GurellerSNS Call 1 Projects MetricsEricsson\, SNS OPS Task 3.2 Leader\n\n\n	10.50 – 11.00Kostas TrichiasWay forward & Q&A6G-IA\, SNS OPS WP1 Leader\n\n\n	11.00End of Event
URL:https://smart-networks.europa.eu/event/sns-ops-questionnaire-results-webinar/
LOCATION:Online event
CATEGORIES:SNS JU Event
ATTACH;FMTTYPE=image/png:https://smart-networks.europa.eu/wp-content/uploads/2024/06/banner-sns-ops-questionnaire-results-of-call-1-2-sns-projects.png
END:VEVENT
END:VCALENDAR