BEGIN:VCALENDAR
VERSION:2.0
PRODID:-//SNS JU - ECPv6.15.20//NONSGML v1.0//EN
CALSCALE:GREGORIAN
METHOD:PUBLISH
X-WR-CALNAME:SNS JU
X-ORIGINAL-URL:https://smart-networks.europa.eu
X-WR-CALDESC:Events for SNS JU
REFRESH-INTERVAL;VALUE=DURATION:PT1H
X-Robots-Tag:noindex
X-PUBLISHED-TTL:PT1H
BEGIN:VTIMEZONE
TZID:Europe/Berlin
BEGIN:DAYLIGHT
TZOFFSETFROM:+0100
TZOFFSETTO:+0200
TZNAME:CEST
DTSTART:20230326T010000
END:DAYLIGHT
BEGIN:STANDARD
TZOFFSETFROM:+0200
TZOFFSETTO:+0100
TZNAME:CET
DTSTART:20231029T010000
END:STANDARD
BEGIN:DAYLIGHT
TZOFFSETFROM:+0100
TZOFFSETTO:+0200
TZNAME:CEST
DTSTART:20240331T010000
END:DAYLIGHT
BEGIN:STANDARD
TZOFFSETFROM:+0200
TZOFFSETTO:+0100
TZNAME:CET
DTSTART:20241027T010000
END:STANDARD
BEGIN:DAYLIGHT
TZOFFSETFROM:+0100
TZOFFSETTO:+0200
TZNAME:CEST
DTSTART:20250330T010000
END:DAYLIGHT
BEGIN:STANDARD
TZOFFSETFROM:+0200
TZOFFSETTO:+0100
TZNAME:CET
DTSTART:20251026T010000
END:STANDARD
END:VTIMEZONE
BEGIN:VEVENT
DTSTART;TZID=Europe/Berlin:20241202T120000
DTEND;TZID=Europe/Berlin:20241202T130000
DTSTAMP:20260421T095456
CREATED:20241115T124926Z
LAST-MODIFIED:20241204T084645Z
UID:24071-1733140800-1733144400@smart-networks.europa.eu
SUMMARY:SNS-ICE SCoDIHNet Webinar
DESCRIPTION:How Digital Innovation Hubs (DIHs) could improve cooperation with technology providers?\nInstigated by the SNS ICE project and SCoDIHNet (The Smart Connectivity Digital Innovation Hub Network)\, this webinar has the objective to facilitate cooperation between Technology providers (SNS JU members) and DIHs in order to accelerate the uptake of results between R&I and end users. \nIn this webinar\, a number of services supporting DIHs (Digital Innovation Hubs)\, that SCoDIHNet has put in place\, will be presented. The objectives of DIHs with regards to the digitalisation of the European Industry will be explained and how they can benefit from innovations developed in SNS JU projects will be explored. \nFirst we will learn the way DIHs are working\, how they capture end user requirements and how they design the solution\, then we will see a real case on the development of the 5G platform for manufacturing\, finally there will be a presentation of the SCoDIHNet service offers\, with a focus on the Technology provider catalogue which encompasses all relevant Smart Connectivity stakeholders\, in order to highlight cooperation opportunities at regional level. \nAGENDA:\n\n\n\nTime\nTopic\nSpeaker\n\n\n12.00 – 12.05\nOpening remarks\, Agenda\nKostas Trichias\,  6G-IA\, SNS-ICE coordinator\n\n\n12.05 – 12.20\nDIH Organisation and operation\nMarina de la Vega\,  DIGIS3\n\n\n12.20 – 12.35\nDeploying a private 5G infrastructure for manufacturing\nWalter Quadrini\,  Politecnico di Milano\, MADE\n\n\n12.35 – 12.50\nSCoDIHNet service offer\nPierre-Yves Danet\,  6G-IA\n\n\n12.50 – 13.00\nQ&A\n\n\n\n\n  \n  \n 
URL:https://smart-networks.europa.eu/event/sns-ice-scodihnet-webinar/
LOCATION:Online Event\, WEBINAR
ATTACH;FMTTYPE=image/png:https://smart-networks.europa.eu/wp-content/uploads/2024/11/ice-sco.png
END:VEVENT
BEGIN:VEVENT
DTSTART;VALUE=DATE:20241203
DTEND;VALUE=DATE:20241205
DTSTAMP:20260421T095456
CREATED:20241114T160811Z
LAST-MODIFIED:20241114T160811Z
UID:24066-1733184000-1733356799@smart-networks.europa.eu
SUMMARY:6G Evolution Summit\, 3&4 December 2024 (Free Virtual Event)
DESCRIPTION:6G Evolution Summit that will take place on December 3-4\, 2024 as a Free Virtual Event.\nEvent Agenda\nThis conference agenda spans four sessions focusing on the development\, technical challenges\, and sustainability goals associated with 6G technology. \nFull agenda: https://www.fierce-network.com/fiercenetworkcom/6g-evolution-summit-2024 \nSession 1 on December 3\, titled “Defining the 6G Future\,” explores upcoming use cases\, current progress\, and the ecosystem needed for 6G\, focusing on applications like digital sensing and the tactile internet. Keynote speaker Colin Wilcock of 6G IA will open\, followed by a fireside chat with David Soldani from Rakuten and a panel moderated by Stefan Pongratz from Dell’Oro. \nSession 2 addresses “5G Advanced\,” the bridge between 5G and 6G\, emphasizing how 5G Advanced use cases lay the groundwork for 6G development. Preston Marshall of Google will deliver the keynote\, and a panel discussion led by Sylwia Kechiche from OpenSignal will include experts like Professor Monisha Ghosh of SpectrumX. \nSession 3 on December 4\, titled “Navigating the THz Spectrum with AI/ML\,” examines the role of artificial intelligence and machine learning in overcoming THz spectrum challenges essential for 6G. Andreas Roessler from Rohde & Schwarz will present a keynote\, and Monica Paolini of Senza Fili will moderate a panel with Scott Patrick from NTIA. \nSession 4 explores “Delivering on Sustainability Objectives with 6G Connectivity\,” where experts will discuss how 6G can support environmentally sustainable networks through AI-driven efficiency and resource management. Matti Latva-aho from the University of Oulu will lead a fireside chat\, with a panel including Venkatesh Ramaswamy from The MITRE Corporation. \nThe event offers a comprehensive look into how 6G technologies could redefine connectivity\, bridging the present with a more sustainable\, high-speed future. \n\n\n\n\nAbout 6G Evolution Summit\n\n\n\n\n\n\n\n\nWhen Fierce Network first launched the 6G Evolution Summit back in 2022\, there was a slight sense that it was too soon to be talking about this next generation of connectivity before 5G had even taken off. But two years on and we have seen the increased momentum and excitement around the 6G industry which is currently on track to reach a tremendous value of $46.20 billion by 2033. And with the first specifications of 6G detailed in 3GPP’s Release 19 as early as next year\, it’s time for communication service providers (CSPs) to reflect on what progress has been made so far and what needs to be done to foster in the new connectivity ecosystem. Join Fierce Network’s 6G Evolution Summit where we will invite industry leaders to discuss the latest topics and developments in the 6G discussion.
URL:https://smart-networks.europa.eu/event/6g-evolution-summit-34-december-2024-free-virtual-event/
CATEGORIES:Other Event
ATTACH;FMTTYPE=image/png:https://smart-networks.europa.eu/wp-content/uploads/2024/11/6g-evolution-summit-banner.png
END:VEVENT
BEGIN:VEVENT
DTSTART;VALUE=DATE:20241205
DTEND;VALUE=DATE:20241206
DTSTAMP:20260421T095456
CREATED:20241114T144014Z
LAST-MODIFIED:20241115T092600Z
UID:24061-1733356800-1733443199@smart-networks.europa.eu
SUMMARY:FIDAL Workshop @PSCE Conference on 5th December (Brussels)
DESCRIPTION:FIDAL Project will hold a PPDR Workshop at the upcoming PSCE Conference on 5th December (Brussels) \nThe workshop will gather\, for the first time\,  FIDAL partners and winners of the first round of Open Calls who will intervene to present some examples of PPDR solutions currently being explored in the project and that are leveraging on Beyond 5G technologies to offer better services to the PPDR sector. \nEvent details: \n\nDate & Time: 5th December 2024\, 10h30-13h00\nLocation: Brussels\, Belgium\nRegistration link: https://lnkd.in/dw8ctHdq\n\n  \nThe workshop will address three thematic\, led by three FIDAL Use Cases:\n? Real-time incident detection with presentations (UC2)\n? Situational Awareness (UC3)\n?Augmented and Extended Reality (UC6.2) \nUnder each theme\, we will also have presentations from the following PPDR Open Call projects: SwarmCatcher\, EFFECT\, MC-SEAL\, B5G MOBITRUST\, and RescueSync. To learn more about these projects you can visit the FIDAL website: https://fidal-he.eu/open-call-1-winners
URL:https://smart-networks.europa.eu/event/fidal-workshop-psce-conference-on-5th-december-brussels/
CATEGORIES:Project Event
ATTACH;FMTTYPE=image/png:https://smart-networks.europa.eu/wp-content/uploads/2024/11/psce-2024-brussels_topic-overview-e1731595386682.png
END:VEVENT
BEGIN:VEVENT
DTSTART;TZID=Europe/Berlin:20241208T080000
DTEND;TZID=Europe/Berlin:20241212T170000
DTSTAMP:20260421T095456
CREATED:20240527T150612Z
LAST-MODIFIED:20241213T092025Z
UID:22819-1733644800-1734022800@smart-networks.europa.eu
SUMMARY:6GArch – 4th International Workshop on 6G Architecture
DESCRIPTION:WS-29: Workshop on 6G Architecture (6GArch)\n10th edition combined with 5GArch Workshop Series\nIn conjunction with IEEE Globecom 2024\, Cape Town\, South Africa\, 8-12 December 2024\, https://globecom2024.ieee-globecom.org/ \nThis workshop is organised by the SNS JU 6G Architecture work group. \n  \nObjectives – Call for Papers – Important Dates – Submit a Paper – Workshop Organisers/Committee – Program – Past Editions \n  \n1.    Objectives of the workshop (more here)\nSince the early generations\, mobile and wireless communications systems have played a crucial role in establishing essential connectivity. They have facilitated easy access to information anytime and anywhere\, leading to accelerated knowledge build-up and value-added actions across various sectors of society. The significance of wireless communication infrastructure has been further highlighted during the COVID-19 pandemic\, as it has supported global stability and faster recovery by maintaining a stable technological environment and seamless societal connections despite quarantine regulations. \nRecognizing the critical role and importance of mobile and wireless communications\, advancements in the telecommunications ecosystem are captured through non-backward compatible features specified in a new generation of mobile and wireless communications systems. Transitioning from one generation to the next requires significant efforts\, and the justification for a new generation must consider technical\, societal\, and economic factors. These factors are interconnected\, meaning that advancements in any of these areas can accelerate the overall process. For example\, the need to explore new business areas also entails supporting a diverse set of requirements. \nIn this context\, 3GPP standardization has progressed rapidly\, and more 5G system enhancements are reaching maturity with the completion of Release 17\, while Release 18 is marking the start of 5G-Advanced. Release 19 is underway to provide a guidance on what future the 6G system needs to be capable of\, and Release 20 is in preparation. At the same time\, the Smart Networks and Services (SNS JU) in Europe\, under the Horizon Europe program for Research and Innovation\, has started to date more than 60 project in Phases 1 and 2\, and more projects are underway. The European SNS JU program is a joint initiative between the private and the public side and focuses on 5G-Advanced and 6G. \nTo address the architectural evolution towards 6G\, the SNS 6G Architecture Working Group (WG) has evolved from the 5G PPP Architecture WG\, which has issued several white papers and an open-access book\, with the latest one specifically focusing on this workshop’s topics. The workshop aims to discuss novel key architectural innovations required for future 6G mobile telecommunications networks. It also provides a platform for projects working on long-term innovations and formulating research items under the 6G theme to share their visions\, requirements\, and architectural considerations for future mobile systems. \nThe thematic topics of the workshop revolve around technology enablers and design recommendations\, facilitating the transition from 5G-Advanced towards a fully-fledged 6G architecture. These topics will encompass areas such as network infrastructure\, spectrum utilization\, connectivity\, scalability\, sustainability\, security\, as well as joint/integrated communication and sensing\, among others. The workshop will source from the very vibrant SNS JU research community that is already working on the topics\, providing reference architectural solutions. \nIn summary\, the rapid progress in mobile telecommunications has demonstrated their crucial role in establishing connectivity and fostering knowledge sharing. The ongoing efforts in 5G standardization\, the SNS JU projects (and previously the 5G PPP projects)\, and the upcoming focus on 5G-Advanced and 6G research indicate the industry’s dedication to advancing mobile telecommunications systems. The workshop aims to explore architectural innovations and provide a collaborative platform to shape the future of mobile telecommunications systems. \n<h4id=callforpapers>2.    Call for Papers \nAs we witness the continuous strides toward the next generation of mobile network architectures\, there arises a critical need to discuss and consolidate architectural perspectives toward the definition of the 6th Generation of Mobile Network Architecture. \nThis involves encouraging researchers and engineers to contribute and exchange their insights and visions on various topics such as infrastructure\, spectrum utilization\, connectivity\, scalability\, sustainability\, and security\, among other key areas. \nIn the 6GArch workshop\, we delve into the evolving landscape of mobile and wireless communications systems\, calling for contributions on these emerging topics that are paramount to the definition of future mobile communications. Both theoretical and more applied contributions are solicited\, covering\, but not necessarily limited to\, the following topics: \n\nCognitive\, automated\, and specialized architectures.\nArchitectural simplification.\nNetwork Monetization.\n5G to 6G Migration.\nAPIs and Exposure Framework.\nNetwork Digital Twins.\nNew spectrum technologies\, e.g.\, midband\, terahertz\, and beyond frequencies and related channel models.\nReconfigurable Intelligent Surfaces (RIS).\nSpectrum efficiency and spectrum re-utilization.\nJoint-/Integrated Communication and Sensing (JCAS\, ISAC).\nInherent AI-driven network governance and management.\nEvolution of multiaccess communications (ATSSS) towards 6G.\nArchitectural enablers for cloud transformation in 6G.\nAI/ML empowered RAN Intelligent optimization including native AI-based air interface design.\nDynamic dependability and high resilience.\nTime-sensitive wireless/mobile networks.\nHigh-resolution localization.\nE2E Network Slicing and Deep Slicing to support diverse verticals.\nOpen Testbeds and facilities to assess new technology enablers.\nNon-terrestrial and 3D networking.\n6G architectural enablers and key metrics for an energy efficient and sustainable 6G system.\nIndustry landscape and Standardization efforts for intelligent and cloud-based RAN.\nTestbeds/Experimentation to validate or support the intelligent and cloud-based RAN.\nThe role of architecture towards sustainable 6G\nThe role of 6G for sustainability in the vertical industries\n\n  \n3.     Important dates\nSee also deadlines at https://globecom2024.ieee-globecom.org/ \nWorkshop Paper Submission Deadline: 5 August 2024 20 August 2024 \nPaper Acceptance Notification: 1 September 2024 15 September 2024 \nCamera Ready: 1 October 2024 10 October 2024 \n  \n4.   Submit a paper\nPaper submission will be through EDAS (link to be announced). https://edas.info/newPaper.php?c=32682 \n  \n5.   Workshop organisers:\nThis workshop is organised by the SNS JU 6G Architecture work group. \n\nAnastasius Gavras\, Eurescom GmbH\nMarco Gramaglia\, University Carlos III of Madrid\,\nÖmer Bulakci\, Nokia\nXi Li\, NEC Laboratories Europe\n\n  \n6.   Program committee members:\n\nProf. Dr. Marco Gramaglia\, University Carlos III of Madrid\, Spain\nDr. Ömer Bulakci\, Nokia\, Germany\nAnastasius Gavras\, Eurescom GmbH\, Germany\nDr. Xi Li\, NEC Laboratories Europe\, Germany\nDr. Mikko Uusitalo\, Nokia Bell Labs\, Finland\nDr. Mir Ghoraishi\, Gigasys Solutions\, UK\nProf. Dr. John Cosmas\, Brunel University London\, UK\nMårten Ericson\, Ericsson\, Sweden\nDr. Bahare Masood Khorsandi\, Nokia\, Germany\nDr. Agapi Mesodiakaki\, Aristotle University of Thessaloniki\, Greece\nDr. Dimitris Tsolkas\, Fogus Innovations & services P.C.\, Greece; and the National & Kapodistrian University of Athens\, Greece\nProf. Dr. Haeyoung Lee\, University of Hertfordshire\, UK\nGiada Landi\, Nextworks\, Italy\nHåkon Lønsethagen\, Telenor\, Norway\nDr. Apostolis Salkintzis\, Lenovo\, Germany\nDr. Chathura Sarathchandra\, InterDigital\, UK\nDr. Nikolaos Bartzoudis\, Centre Tecnològic de Telecomunicacions de Catalunya (CTTC/CERCA)\, Spain\nHarilaos Koumaras (NCSR Demokritos|FRONT Research Group)\nDimitris Fragkos (NCSR Demokritos|FRONT Research Group)\nGeorge Makropoulos (NCSR Demokritos|FRONT Research Group)\nIlias Alexandropoulos (NCSR Demokritos | FRONT Research Group)\nNikos Gkatzios (INFOLYSIS PC)\nJoachim Sachs\, Ericsson\n\n  \n7.  Program (full program here)\nSession 1: Architectures and Challenges in 6G Networks (9.00 – 10.30)\n\n\n\nPaper Title\nAuthors\n\n\n\n\nStandardisation Assessment of a Digital Twin-Based Multi-Domain Deterministic Communication System\nSebastian Robitzsch\, Antonio de la Oliva\, Carla Fabiana Chiasserini\, Claudio E. Casetti\, Fernando Ágraz\, et al.\n\n\nThe Industrial 6G Network of Networks\nKonstantin Schneider\, Eike Lyczkowski\, Daniel Ritterschober\, Wolfgang Kiess\, et al.\n\n\nTowards Ultra-Reliable 6G Communication: A Novel Architecture for End-to-End Redundancy\nMalla Reddy Sama\, Sushant Bhattacharjee\, Riccardo Guerzoni\, Wolfgang Kiess\, Jan Jürjens\n\n\nTechno-Economic Analysis of Sustainable Terrestrial\, Aerial\, and Space 6G Networks\nCharalampos Brasotis\, Agapi Mesodiakaki\, Panagiotis Konstantinou\, Marianos Gatzios\, George Kalfas\n\n\nArchitectural Challenges of Nomadic Networks in 6G\nDaniel Lindh\, Benedikt Veth\, Khurshid Alam\, Anir Daurmehrava\, Mohammad Asif Habibi\, et al.\n\n\nAnalyzing 6G Satellite IoT Architecture Using Stochastic Geometry: A Meta Distribution Approach\nBaly Naganjani\, Ayush Kumar Dwivedi\, Sachin Chaudhari\, Taneli Riihonen\n\n\n\n\nSession 2: Keynote and Innovations in Privacy and Scalability for 6G (11.00 – 12.30)\n\n\n\nPresentation Type\nTitle/Topic\nSpeaker/Authors\n\n\n\n\nKeynote\nUnderstanding the Potential of Open Campus Networks for Driving an Open 6G\nProf. Dr. Thomas Magedanz (TU Berlin / Fraunhofer FOKUS\, Germany)\n\n\nPaper 1\n6G Sustainable Privacy-Preserving Framework Enabling Federated Learning for Health Data\nPooja Mohnani\, Konstantinos Koutsopoulos\, Anastasius Gavras\, Giannis Ledakis\, Orazio Toscano\, Benjamin Ertl\n\n\nPaper 2\nScaling 6G Subnetworks Using Multi-Carrier NOMA in Fixed Wireless Access\nKamyar Rajab\, Sagnik Bhattacharya\, Mehrnaz Afshang\, Mehdi Mozaffari\, John Cioffi\n\n\n\nAll times are in the Africa/Johannesburg time zone. \nPanel: This session will take the form of an interactive question-and-answer session in which invited panelists will answer questions from the chair and the audience. Panelists will be selected among the organizers and the TPC members. The topic will be “Sustainability in 6G Networks\, an architectural view”\, owing to the large interest that the topic has been raising during recent years. \n  \n8.   Past editions\nThe 6GArch workshop is a continuation of the 5GArch Workshop. The list below provides details on the previous editions: \n8.1     9th (3rd 6GArch workshop)\n\nWorkshop on 6G Architecture (3rd 6GARCH)\nIn conjunction with IEEE WCNC\, 21-24 April 2024\, Dubai\, U.A.E.\nhttps://wcnc2024.ieee-wcnc.org/workshop/ws-12-6garch-3rd-workshop-6g-architecture\nhttps://wcnc2024.ieee-wcnc.org/workshop/ws-12-6garch-3rd-workshop-6g-architecture/program\n\n8.2     8th (2nd 6GArch workshop)\n\nWorkshop on Archtectural Evolution Toward 6G Networks (2nd 6GARCH)\nIn conjunction with IEEE Globecom\, 4-8 December 2022\, Rio de Janeiro\, Brazil\nhttps://globecom2022.ieee-globecom.org/workshop/ws18-2nd-workshop-architectural-evolution-toward-6g-networks-6garch\nhttps://globecom2022.ieee-globecom.org/workshop/ws18-2nd-workshop-architectural-evolution-toward-6g-networks-6garch/program\n\n8.3     7th (1st 6GArch workshop)\n\nArchitecural Evolution Toward 6G Networks: A European View\nIn conjunction with IEEE 5G World Forum\, 13-15 October 2021\, Virtual Conference\nhttps://attend.ieee.org/wf-5g/architectural-evolution-toward-6g-networks-a-european-view/\n\n8.4     6th\n\nInternational Workshop on 5G Architecture\nIn conjunction with EUCNC 2019\, June 18-21 2019\, Valencia\, Spain\nhttps://www.eucnc.eu/2019/www.eucnc.eu/workshops/workshop-8/index.html\n\n8.5     5th\n\nInternational Workshop on 5G Architecture (5GArch 2018)\nIn conjunction with IEEE ICC\, 20-24 May 2018\, Kansas City\, USA\nhttps://icc2018.ieee-icc.org/workshop/5th-international-workshop-5g-architecture-5garch/program.html\n\n8.6     4th\n\nInternational Workshop on 5G Architecture (5GArch 2017)\nIn conjunction with IEEE ICC\, 21-25 May 2017\, Paris\, France\nhttps://icc2017.ieee-icc.org/workshop/5garch-2017-4th-international-workshop-5g-architecture/program.html\n\n8.7     3rd\n\nInternational Workshop on 5G Architecture\nIn conjunction with EUCNC 2016\, 27-30 June 2016\, Athens\, Greece\nhttps://www.eucnc.eu/2016/www.eucnc.eu/indexe1e4.html?q=node/110\n\n8.8     2nd\n\nWorkshop on 5G Architecture (5GArch 2016)\nIn conjunction with IEEE ICC\, 23-27 May 2016\, Kuala Lumpur\, Malaysia\nhttps://icc2016.ieee-icc.org/content/workshops.html#W01\n\n8.9     1st workshop\n\n5GPPP Architecture workshop (5GArch 2015)\nIn conjunction with IEEE VTC-Spring 2015\, EU FP7 METIS and iJOIN projects\, 11-14 May 2015\, Glasgow\, U.K.\nhttps://www.ieeevtc.org/vtc2015spring/workshops.php#wkshp_4\nhttps://eit.rptu.de/fileadmin/funknavi/HTML/5G_Arch/index.html\nProgramm of the main conference https://www.ieeevtc.org/vtc2015spring/final-program.pdf\n\n  \n 
URL:https://smart-networks.europa.eu/event/6garch-4th-international-workshop-on-6g-architecture/
LOCATION:Cape Town\, South Africa\, Cape Town\, South Africa
CATEGORIES:SNS JU Event
ATTACH;FMTTYPE=image/png:https://smart-networks.europa.eu/wp-content/uploads/2024/05/gc24-gen-conf-banners-template-d_v2_10jan23_jb_1200x628.png
END:VEVENT
END:VCALENDAR